BEGIN:VCALENDAR
VERSION:2.0
PRODID:-//Ritualwell - ECPv6.15.19//NONSGML v1.0//EN
CALSCALE:GREGORIAN
METHOD:PUBLISH
X-ORIGINAL-URL:https://ritualwell.org
X-WR-CALDESC:Events for Ritualwell
REFRESH-INTERVAL;VALUE=DURATION:PT1H
X-Robots-Tag:noindex
X-PUBLISHED-TTL:PT1H
BEGIN:VTIMEZONE
TZID:America/New_York
BEGIN:DAYLIGHT
TZOFFSETFROM:-0500
TZOFFSETTO:-0400
TZNAME:EDT
DTSTART:20220313T070000
END:DAYLIGHT
BEGIN:STANDARD
TZOFFSETFROM:-0400
TZOFFSETTO:-0500
TZNAME:EST
DTSTART:20221106T060000
END:STANDARD
BEGIN:DAYLIGHT
TZOFFSETFROM:-0500
TZOFFSETTO:-0400
TZNAME:EDT
DTSTART:20230312T070000
END:DAYLIGHT
BEGIN:STANDARD
TZOFFSETFROM:-0400
TZOFFSETTO:-0500
TZNAME:EST
DTSTART:20231105T060000
END:STANDARD
BEGIN:DAYLIGHT
TZOFFSETFROM:-0500
TZOFFSETTO:-0400
TZNAME:EDT
DTSTART:20240310T070000
END:DAYLIGHT
BEGIN:STANDARD
TZOFFSETFROM:-0400
TZOFFSETTO:-0500
TZNAME:EST
DTSTART:20241103T060000
END:STANDARD
BEGIN:DAYLIGHT
TZOFFSETFROM:-0500
TZOFFSETTO:-0400
TZNAME:EDT
DTSTART:20250309T070000
END:DAYLIGHT
BEGIN:STANDARD
TZOFFSETFROM:-0400
TZOFFSETTO:-0500
TZNAME:EST
DTSTART:20251102T060000
END:STANDARD
BEGIN:DAYLIGHT
TZOFFSETFROM:-0500
TZOFFSETTO:-0400
TZNAME:EDT
DTSTART:20260308T070000
END:DAYLIGHT
BEGIN:STANDARD
TZOFFSETFROM:-0400
TZOFFSETTO:-0500
TZNAME:EST
DTSTART:20261101T060000
END:STANDARD
END:VTIMEZONE
BEGIN:VEVENT
DTSTART;TZID=America/New_York:20250903T120000
DTEND;TZID=America/New_York:20250903T133000
DTSTAMP:20260422T053942
CREATED:20250527T163800Z
LAST-MODIFIED:20250805T134056Z
UID:31551-1756900800-1756906200@ritualwell.org
SUMMARY:Elul Journey Towards Yizkor
DESCRIPTION:Wednesdays\, August 13\, 20 & 27 and September 3\, 2025\n12-1:30 p.m. EDT\n$180\n \n\nAs we welcome the month of Elul\, our thoughts naturally shift towards spiritual introspection. This year\, many of us carry not only our personal grief but also the collective sorrows of the world.\n \nElul offers us the opportunity to explore the traditions surrounding the Mourner’s Kaddish and the Yizkor service. Join liturgist Trisha Arlin to a meaningful journey that includes conversation\, meditation\, and creative writing. Together\, we will delve into various aspects of the Kaddish\, connecting it to your personal grief journey and the wider state of the world. For those attending the Yizkor service\, this session will enhance your experience and participation.\n \n\nAll sessions will be recorded and sent to participants. We encourage live attendance for you to get the most out of the experience.\n \nTrisha Arlin is a liturgist\, writer\, performer\, and student of prayer in Brooklyn\, NY. She has served as a liturgist\, scholar\, and artist-in-residence and taught for venues including the National Havurah Committee’s Summer Institute\, Ritualwell\, Haggadot.com\, and for synagogues around the country. She is a builder of Bayit’s Liturgical Arts project. Trisha received a BA in Theater from Antioch College in 1975 and an MFA in Film (Screenwriting) in 1997 from Columbia University. In 2009/2010\, Trisha was an Arts Fellow at the Drisha Institute. In 2011\, she graduated from the sixth cohort of the Davennen Leadership Training Institute (DLTI). Trisha’s liturgy has been used in services\, for ritual occasions\, and at venues of many denominations nationwide. She is the author of Place Yourself: Words of Poetry and Intention (a collection of liturgy and kavannot). Her work has appeared in a variety of journals\, siddurim\, and collections of liturgy and can be found online at TrishaArlin.com.\n 
URL:https://ritualwell.org/event/elul-journey-towards-yizkor/2025-09-03/
LOCATION:Zoom
CATEGORIES:Immersions
ATTACH;FMTTYPE=image/png:https://ritualwell.org/wp-content/uploads/sites/2/2025/05/Elul-Journey-Towards-Yizkor-2025-RAW.png
END:VEVENT
BEGIN:VEVENT
DTSTART;TZID=America/New_York:20250827T120000
DTEND;TZID=America/New_York:20250827T133000
DTSTAMP:20260422T053942
CREATED:20250527T163800Z
LAST-MODIFIED:20250805T134055Z
UID:30864-1756296000-1756301400@ritualwell.org
SUMMARY:Elul Journey Towards Yizkor
DESCRIPTION:Wednesdays\, August 13\, 20 & 27 and September 3\, 2025\n12-1:30 p.m. EDT\n$180\n \n\nAs we welcome the month of Elul\, our thoughts naturally shift towards spiritual introspection. This year\, many of us carry not only our personal grief but also the collective sorrows of the world.\n \nElul offers us the opportunity to explore the traditions surrounding the Mourner’s Kaddish and the Yizkor service. Join liturgist Trisha Arlin to a meaningful journey that includes conversation\, meditation\, and creative writing. Together\, we will delve into various aspects of the Kaddish\, connecting it to your personal grief journey and the wider state of the world. For those attending the Yizkor service\, this session will enhance your experience and participation.\n \n\nAll sessions will be recorded and sent to participants. We encourage live attendance for you to get the most out of the experience.\n \nTrisha Arlin is a liturgist\, writer\, performer\, and student of prayer in Brooklyn\, NY. She has served as a liturgist\, scholar\, and artist-in-residence and taught for venues including the National Havurah Committee’s Summer Institute\, Ritualwell\, Haggadot.com\, and for synagogues around the country. She is a builder of Bayit’s Liturgical Arts project. Trisha received a BA in Theater from Antioch College in 1975 and an MFA in Film (Screenwriting) in 1997 from Columbia University. In 2009/2010\, Trisha was an Arts Fellow at the Drisha Institute. In 2011\, she graduated from the sixth cohort of the Davennen Leadership Training Institute (DLTI). Trisha’s liturgy has been used in services\, for ritual occasions\, and at venues of many denominations nationwide. She is the author of Place Yourself: Words of Poetry and Intention (a collection of liturgy and kavannot). Her work has appeared in a variety of journals\, siddurim\, and collections of liturgy and can be found online at TrishaArlin.com.\n 
URL:https://ritualwell.org/event/elul-journey-towards-yizkor/2025-08-27/
LOCATION:Zoom
CATEGORIES:Immersions
ATTACH;FMTTYPE=image/png:https://ritualwell.org/wp-content/uploads/sites/2/2025/05/Elul-Journey-Towards-Yizkor-2025-RAW.png
END:VEVENT
BEGIN:VEVENT
DTSTART;TZID=America/New_York:20250820T120000
DTEND;TZID=America/New_York:20250820T133000
DTSTAMP:20260422T053942
CREATED:20250527T163800Z
LAST-MODIFIED:20250805T134054Z
UID:30863-1755691200-1755696600@ritualwell.org
SUMMARY:Elul Journey Towards Yizkor
DESCRIPTION:Wednesdays\, August 13\, 20 & 27 and September 3\, 2025\n12-1:30 p.m. EDT\n$180\n \n\nAs we welcome the month of Elul\, our thoughts naturally shift towards spiritual introspection. This year\, many of us carry not only our personal grief but also the collective sorrows of the world.\n \nElul offers us the opportunity to explore the traditions surrounding the Mourner’s Kaddish and the Yizkor service. Join liturgist Trisha Arlin to a meaningful journey that includes conversation\, meditation\, and creative writing. Together\, we will delve into various aspects of the Kaddish\, connecting it to your personal grief journey and the wider state of the world. For those attending the Yizkor service\, this session will enhance your experience and participation.\n \n\nAll sessions will be recorded and sent to participants. We encourage live attendance for you to get the most out of the experience.\n \nTrisha Arlin is a liturgist\, writer\, performer\, and student of prayer in Brooklyn\, NY. She has served as a liturgist\, scholar\, and artist-in-residence and taught for venues including the National Havurah Committee’s Summer Institute\, Ritualwell\, Haggadot.com\, and for synagogues around the country. She is a builder of Bayit’s Liturgical Arts project. Trisha received a BA in Theater from Antioch College in 1975 and an MFA in Film (Screenwriting) in 1997 from Columbia University. In 2009/2010\, Trisha was an Arts Fellow at the Drisha Institute. In 2011\, she graduated from the sixth cohort of the Davennen Leadership Training Institute (DLTI). Trisha’s liturgy has been used in services\, for ritual occasions\, and at venues of many denominations nationwide. She is the author of Place Yourself: Words of Poetry and Intention (a collection of liturgy and kavannot). Her work has appeared in a variety of journals\, siddurim\, and collections of liturgy and can be found online at TrishaArlin.com.\n 
URL:https://ritualwell.org/event/elul-journey-towards-yizkor/2025-08-20/
LOCATION:Zoom
CATEGORIES:Immersions
ATTACH;FMTTYPE=image/png:https://ritualwell.org/wp-content/uploads/sites/2/2025/05/Elul-Journey-Towards-Yizkor-2025-RAW.png
END:VEVENT
BEGIN:VEVENT
DTSTART;TZID=America/New_York:20250813T120000
DTEND;TZID=America/New_York:20250813T133000
DTSTAMP:20260422T053942
CREATED:20250527T163800Z
LAST-MODIFIED:20250805T134052Z
UID:30861-1755086400-1755091800@ritualwell.org
SUMMARY:Elul Journey Towards Yizkor
DESCRIPTION:Wednesdays\, August 13\, 20 & 27 and September 3\, 2025\n12-1:30 p.m. EDT\n$180\n \n\nAs we welcome the month of Elul\, our thoughts naturally shift towards spiritual introspection. This year\, many of us carry not only our personal grief but also the collective sorrows of the world.\n \nElul offers us the opportunity to explore the traditions surrounding the Mourner’s Kaddish and the Yizkor service. Join liturgist Trisha Arlin to a meaningful journey that includes conversation\, meditation\, and creative writing. Together\, we will delve into various aspects of the Kaddish\, connecting it to your personal grief journey and the wider state of the world. For those attending the Yizkor service\, this session will enhance your experience and participation.\n \n\nAll sessions will be recorded and sent to participants. We encourage live attendance for you to get the most out of the experience.\n \nTrisha Arlin is a liturgist\, writer\, performer\, and student of prayer in Brooklyn\, NY. She has served as a liturgist\, scholar\, and artist-in-residence and taught for venues including the National Havurah Committee’s Summer Institute\, Ritualwell\, Haggadot.com\, and for synagogues around the country. She is a builder of Bayit’s Liturgical Arts project. Trisha received a BA in Theater from Antioch College in 1975 and an MFA in Film (Screenwriting) in 1997 from Columbia University. In 2009/2010\, Trisha was an Arts Fellow at the Drisha Institute. In 2011\, she graduated from the sixth cohort of the Davennen Leadership Training Institute (DLTI). Trisha’s liturgy has been used in services\, for ritual occasions\, and at venues of many denominations nationwide. She is the author of Place Yourself: Words of Poetry and Intention (a collection of liturgy and kavannot). Her work has appeared in a variety of journals\, siddurim\, and collections of liturgy and can be found online at TrishaArlin.com.\n 
URL:https://ritualwell.org/event/elul-journey-towards-yizkor/2025-08-13/
LOCATION:Zoom
CATEGORIES:Immersions
ATTACH;FMTTYPE=image/png:https://ritualwell.org/wp-content/uploads/sites/2/2025/05/Elul-Journey-Towards-Yizkor-2025-RAW.png
END:VEVENT
BEGIN:VEVENT
DTSTART;TZID=America/New_York:20231102T120000
DTEND;TZID=America/New_York:20231102T133000
DTSTAMP:20260422T053942
CREATED:20230805T160135Z
LAST-MODIFIED:20230823T151028Z
UID:19393-1698926400-1698931800@ritualwell.org
SUMMARY:Writing Our Aging Selves
DESCRIPTION:Thursday\, November 2\, 2023 \n12-1:30 p.m. EDT \nThere are so many new things to pray about as we age! Our memory\, skin\, mobility\, and hair color have all changed\, developed\, and evolved slowly and noticeably. We accumulate wisdom and peel away shame\, caring less about what the world thinks of us and more about what we think about ourselves and the changing world around us. Join instructor Trish Arlin to design your own prayers and rituals of gratitude\, worry\, anger and hope for the life that is unfolding before you. Write\, reflect and share your creative self with the Ritualwell community in this free\, open for all session. No prior writing experience is required. \nAll sessions will be recorded and sent to participants. We encourage live attendance for you to get the most out of the experience. \nTrisha Arlin is a liturgist\, writer\, performer\, and student of prayer in Brooklyn\, NY. She has served as a liturgist\, scholar\, and artist in residence and taught for venues including the National Havurah Committee’s Summer Institute\, Ritualwell.org\, Haggadot.com\, and for synagogues around the country. She is a builder of Bayit’s Liturgical Arts project. Trisha received a BA in Theater from Antioch College in 1975 and an MFA in Film (Screenwriting) in 1997 from Columbia University. In 2009/2010\, Trisha was an Arts Fellow at the Drisha Institute. In 2011\, she graduated from the sixth cohort of the Davennen Leadership Training Institute (DLTI). Trisha’s liturgy has been used in services\, for ritual occasions\, and at venues of many denominations nationwide. She is the author of Place Yourself: Words of Poetry and Intention (a collection of liturgy and kavannot). Her work has appeared in a variety of journals\, siddurim\, and collections of liturgy and can be found online at TrishaArlin.com\, Ritualwell.org\, and opensiddur.org.
URL:https://ritualwell.org/event/writing-our-aging-selves/
LOCATION:Zoom
CATEGORIES:Event,Free,Standalone session
ATTACH;FMTTYPE=image/png:https://ritualwell.org/wp-content/uploads/sites/2/2023/08/TrishaArlin_WritingOurAgingSelves_Nov2023_raw.png
END:VEVENT
BEGIN:VEVENT
DTSTART;TZID=America/New_York:20230524T120000
DTEND;TZID=America/New_York:20230524T133000
DTSTAMP:20260422T053942
CREATED:20220817T220255Z
LAST-MODIFIED:20230517T141441Z
UID:11587-1684929600-1684935000@ritualwell.org
SUMMARY:Liturgy Writing for Prayer Leaders
DESCRIPTION:May 24\, 31\, June 7\, 14\, 21\, 28\, 2023\n12:00–1:30 p.m. EDT \nLiturgy may be poetry\, but is a poem necessarily liturgy? What turns a piece of writing into liturgy\, something you can use during a prayer service? In this immersion\, you will learn criteria and techniques to transform your poems and prayers into liturgy. In each session\, we will discuss a topic you might need to address during a prayer service or event; then you will be prompted to write your personal take on it\, as a first step toward creating your own liturgy. This immersion is for prayer leaders who have some experience writing prayers and want to receive feedback and hone their skills as liturgists in a supportive environment. \nTrisha Arlin is a liturgist\, writer\, performer\, and student of prayer in Brooklyn\, NY. She has served as a liturgist\, scholar\, and artist in residence and taught for venues including the National Havurah Committee’s Summer Institute\, Ritualwell.org\, Haggadot.com\, and for synagogues around the country. She is a builder of Bayit’s Liturgical Arts project. Trisha received a BA in Theater from Antioch College in 1975 and an MFA in Film (Screenwriting) in 1997 from Columbia University. In 2009/2010\, Trisha was an Arts Fellow at the Drisha Institute. In 2011\, she graduated from the sixth cohort of the Davennen Leadership Training Institute (DLTI). Trisha’s liturgy has been used in services\, for ritual occasions\, and at venues of many denominations nationwide. She is the author of Place Yourself: Words of Poetry and Intention (a collection of liturgy and kavannot). Her work has appeared in a variety of journals\, siddurim\, and collections of liturgy and can be found online at TrishaArlin.com\, Ritualwell.org\, and opensiddur.org. \nAll sessions will be recorded and sent to participants. We encourage live attendance for you to get the most out of the experience.
URL:https://ritualwell.org/event/liturgy-writing-for-prayer-leaders/2023-05-24/
LOCATION:Zoom
CATEGORIES:Immersions
ATTACH;FMTTYPE=image/png:https://ritualwell.org/wp-content/uploads/sites/2/2022/08/Liturgy-Writing-for-Prayer-Leaders-MayJune23-ForWeb-1.png
END:VEVENT
BEGIN:VEVENT
DTSTART;TZID=America/New_York:20230503T120000
DTEND;TZID=America/New_York:20230503T133000
DTSTAMP:20260422T053942
CREATED:20220817T221443Z
LAST-MODIFIED:20230127T000427Z
UID:11585-1683115200-1683120600@ritualwell.org
SUMMARY:The Access Code: Naming God and Opening to Prayer
DESCRIPTION:The first line of the traditional liturgical prayer is the petikhah (the opening)\, where we name and describe the One we will be in holy conversation with and then state the basic premise of the prayer. Traditionally\, we gain access to God by praying to Adonai\, Melekh HaOlam\, the “Lord\, King of the Universe\,” but we can call God by any name\, gendered or not\, hierarchical or not\, depending of who or what we need to pray to or for. In this session\, we will explore the petikhah and how to use it to create our own prayers. \nTrisha Arlin is a liturgist\, writer\, performer\, and student of prayer in Brooklyn\, NY. She has served as a liturgist\, scholar\, and artist in residence and taught for venues including the National Havurah Committee’s Summer Institute\, Ritualwell.org\, Haggadot.com\, and for synagogues around the country. She is a builder of Bayit’s Liturgical Arts project. Trisha received a BA in Theater from Antioch College in 1975 and an MFA in Film (Screenwriting) in 1997 from Columbia University. In 2009/2010\, Trisha was an Arts Fellow at the Drisha Institute. In 2011\, she graduated from the sixth cohort of the Davennen Leadership Training Institute (DLTI). Trisha’s liturgy has been used in services\, for ritual occasions\, and at venues of many denominations nationwide. She is the author of Place Yourself: Words of Poetry and Intention (a collection of liturgy and kavannot). Her work has appeared in a variety of journals\, siddurim\, and collections of liturgy and can be found online at TrishaArlin.com\, Ritualwell.org\, and opensiddur.org. \nAll sessions will be recorded and sent to participants. We encourage live attendance for you to get the most out of the experience. \nWe are happy to offer this session for free. A suggested $18 donation has been added to the ticket. If you are unable to donate\, you may remove that suggested amount from the ticket. Please consider donating if you’re able\, to help us continue to offer free programs like this one.
URL:https://ritualwell.org/event/the-access-code-naming-god-and-opening-to-prayer/
LOCATION:Zoom
CATEGORIES:Free,Standalone session
END:VEVENT
END:VCALENDAR