BEGIN:VCALENDAR
VERSION:2.0
PRODID:-//Ritualwell - ECPv6.15.19//NONSGML v1.0//EN
CALSCALE:GREGORIAN
METHOD:PUBLISH
X-WR-CALNAME:Ritualwell
X-ORIGINAL-URL:https://ritualwell.org
X-WR-CALDESC:Events for Ritualwell
REFRESH-INTERVAL;VALUE=DURATION:PT1H
X-Robots-Tag:noindex
X-PUBLISHED-TTL:PT1H
BEGIN:VTIMEZONE
TZID:America/New_York
BEGIN:DAYLIGHT
TZOFFSETFROM:-0500
TZOFFSETTO:-0400
TZNAME:EDT
DTSTART:20220313T070000
END:DAYLIGHT
BEGIN:STANDARD
TZOFFSETFROM:-0400
TZOFFSETTO:-0500
TZNAME:EST
DTSTART:20221106T060000
END:STANDARD
BEGIN:DAYLIGHT
TZOFFSETFROM:-0500
TZOFFSETTO:-0400
TZNAME:EDT
DTSTART:20230312T070000
END:DAYLIGHT
BEGIN:STANDARD
TZOFFSETFROM:-0400
TZOFFSETTO:-0500
TZNAME:EST
DTSTART:20231105T060000
END:STANDARD
BEGIN:DAYLIGHT
TZOFFSETFROM:-0500
TZOFFSETTO:-0400
TZNAME:EDT
DTSTART:20240310T070000
END:DAYLIGHT
BEGIN:STANDARD
TZOFFSETFROM:-0400
TZOFFSETTO:-0500
TZNAME:EST
DTSTART:20241103T060000
END:STANDARD
BEGIN:DAYLIGHT
TZOFFSETFROM:-0500
TZOFFSETTO:-0400
TZNAME:EDT
DTSTART:20250309T070000
END:DAYLIGHT
BEGIN:STANDARD
TZOFFSETFROM:-0400
TZOFFSETTO:-0500
TZNAME:EST
DTSTART:20251102T060000
END:STANDARD
BEGIN:DAYLIGHT
TZOFFSETFROM:-0500
TZOFFSETTO:-0400
TZNAME:EDT
DTSTART:20260308T070000
END:DAYLIGHT
BEGIN:STANDARD
TZOFFSETFROM:-0400
TZOFFSETTO:-0500
TZNAME:EST
DTSTART:20261101T060000
END:STANDARD
END:VTIMEZONE
BEGIN:VEVENT
DTSTART;TZID=America/New_York:20251217T130000
DTEND;TZID=America/New_York:20251217T140000
DTSTAMP:20260421T070640
CREATED:20251114T163726Z
LAST-MODIFIED:20251125T201058Z
UID:32759-1765976400-1765980000@ritualwell.org
SUMMARY:Magnify the Light: Hanukkah 5786/2025
DESCRIPTION:Wednesday\, December 17\, 2025\n1-2 p.m. EST\n$18\n \n\nHanukkah calls us to notice the light — even when the world feels dim.\nThis year\, Ritualwell invites you to Magnify the Light\, a special Hanukkah event and eight-night practice of reflection\, creativity\, and renewal. \nIn a time of worldwide darkness — both literal and metaphorical — we gather to recognize\, amplify\, and tend to the many lights that still shine. History teaches that the way forward in dark times is to follow the lights of hope\, connection\, compassion\, and justice\, even when it feels difficult. A single spark can grow into a flame\, and a flame into a fire. But first\, we begin with a spark. \nGuided by mindfulness teacher Rabbi Daniel Raphael Silverstein\, we’ll gather on December 17 to meditate\, reflect\, and learn together\, opening space to nurture awareness and deepen our presence through the light of Hanukkah. \nThis experience comes with a new creative booklet for Hanukkah. For eight nights\, as you kindle your hanukkiah and set aside a pause in your day\, we invite you to open the booklet — a collection of readings from Ritualwell writers\, prompts\, and creative invitations designed to awaken your awareness of light in its many forms. \nEach night\, you can: \n\nPause in ritual to light the candles and name a light of justice in our world.\n\n\nReflect on a short reading that invites us to see the lights among us.\n\n\nEngage with a creative prompt that invites your expression.\n\n\nRenew your personal spirit and our shared communal vision.\n\nBring your candles\, your curiosity\, your voice\, and your yearning. Let’s kindle together — and let the light we do see grow warm and wide. Your printable Magnify the Light PDF booklet will be sent to you electronically before Hanukkah begins. \nThis session will be recorded and sent to participants. We encourage live attendance for you to get the most out of the experience. \n  \nDaniel Raphael Silverstein is a rabbi\, educator\, meditation teacher and MC/poet. He lives in Israel with his family\, where he directs Applied Jewish Spirituality\, an online portal which makes the transformative spiritual wisdom of our tradition accessible to all who seek it. Daniel is an accredited teacher of Jewish Mindfulness Meditation and regularly teaches classes and retreats. He was born and raised in London and received a BA from the University of Cambridge and an MA from Warwick University. After receiving semikha from Yeshivat Chovevei Torah Rabbinical School\, he served as Director of Jewish Life and Learning for Hillel of Stanford University in Palo Alto\, CA. Daniel has performed and facilitated all over the world as a spoken word artist\, MC\, and creative educator\, and the Jewish Week selected him as one of their “36 Under 36” young innovators reshaping the Jewish community. Daniel is a cofounder of Lines of Faith\, a Muslim-Jewish hip hop and poetry collective that uses performances and workshops to challenge prejudice and build meaningful bonds between communities.\n\n\n      \n        \n      \n    \n\n 
URL:https://ritualwell.org/event/magnify-the-light-a-hanukkah-practice-for-spirit-and-justice/
LOCATION:Zoom
CATEGORIES:Event
ATTACH;FMTTYPE=image/png:https://ritualwell.org/wp-content/uploads/sites/2/2025/11/Before-I-Go-Ethical-Wills-2025-raw-2.png
END:VEVENT
BEGIN:VEVENT
DTSTART;TZID=America/New_York:20231016T130000
DTEND;TZID=America/New_York:20231016T143000
DTSTAMP:20260421T070640
CREATED:20230805T140030Z
LAST-MODIFIED:20230823T151147Z
UID:19259-1697461200-1697466600@ritualwell.org
SUMMARY:Spiritual Revolutionaries: The Ba'al Shem Tov
DESCRIPTION:Mondays\, October 16\, 23\, 30\, November 6\, 20\, 27\, 2023 \n1-2:30 p.m. Eastern \nR’ Yisroel ben Eliezer (c. 1700 – 1760)\, known as the Ba’al Shem Tov (Master of the Good Name) or Besht\, was a mystic\, healer and teacher who lived in the Ukraine and founded the Hasidic movement\, a spiritual revival movement that has changed the face of Judaism and the world. Hasidism was fiercely rejected by the rabbinic institutions where it emerged but has long since become an indispensable part of the mainstream. Together\, we will explore who the Besht was and some of his radical innovations\, teachings and practices. These include the sacredness of the body; cultivating resilience\, self-awareness and joy; and seeing and appreciating the Divine spark in everything we encounter and experience. In each session\, we will move from text study\, to sharing our reflections on the texts\, to practical exercises arising from the texts. These exercises will include a creative practice in response to prompts\, reflecting with another participant on specific questions\, guided meditations and explorations of our inner landscape. \nAll sessions will be recorded and sent to participants. We encourage live attendance for you to get the most out of the experience. \nDaniel Raphael Silverstein is a rabbi\, educator\, meditation teacher and MC/poet. He lives in Israel with his family\, where he directs Applied Jewish Spirituality\, an online portal which makes the transformative spiritual wisdom of our tradition accessible to all who seek it. Daniel is an accredited teacher of Jewish Mindfulness Meditation and regularly teaches classes and retreats. He was born and raised in London and received a BA from the University of Cambridge and an MA from Warwick University. After receiving semikha from Yeshivat Chovevei Torah Rabbinical School\, he served as Director of Jewish Life and Learning for Hillel of Stanford University in Palo Alto\, CA. Daniel has performed and facilitated all over the world as a spoken word artist\, MC\, and creative educator\, and the Jewish Week selected him as one of their “36 Under 36” young innovators reshaping the Jewish community. Daniel is a cofounder of Lines of Faith\, a Muslim-Jewish hip hop and poetry collective that uses performances and workshops to challenge prejudice and build meaningful bonds between communities.
URL:https://ritualwell.org/event/spiritual-revolutionaries-the-baal-shem-tov/2023-10-16/
LOCATION:Zoom
CATEGORIES:Immersions
ATTACH;FMTTYPE=image/jpeg:https://ritualwell.org/wp-content/uploads/sites/2/2023/06/person-leaping-in-front-of-tree-at-dawn-scaled.jpg
END:VEVENT
END:VCALENDAR