BEGIN:VCALENDAR
VERSION:2.0
PRODID:-//Ritualwell - ECPv6.15.19//NONSGML v1.0//EN
CALSCALE:GREGORIAN
METHOD:PUBLISH
X-WR-CALNAME:Ritualwell
X-ORIGINAL-URL:https://ritualwell.org
X-WR-CALDESC:Events for Ritualwell
REFRESH-INTERVAL;VALUE=DURATION:PT1H
X-Robots-Tag:noindex
X-PUBLISHED-TTL:PT1H
BEGIN:VTIMEZONE
TZID:America/New_York
BEGIN:DAYLIGHT
TZOFFSETFROM:-0500
TZOFFSETTO:-0400
TZNAME:EDT
DTSTART:20210314T070000
END:DAYLIGHT
BEGIN:STANDARD
TZOFFSETFROM:-0400
TZOFFSETTO:-0500
TZNAME:EST
DTSTART:20211107T060000
END:STANDARD
BEGIN:DAYLIGHT
TZOFFSETFROM:-0500
TZOFFSETTO:-0400
TZNAME:EDT
DTSTART:20220313T070000
END:DAYLIGHT
BEGIN:STANDARD
TZOFFSETFROM:-0400
TZOFFSETTO:-0500
TZNAME:EST
DTSTART:20221106T060000
END:STANDARD
BEGIN:DAYLIGHT
TZOFFSETFROM:-0500
TZOFFSETTO:-0400
TZNAME:EDT
DTSTART:20230312T070000
END:DAYLIGHT
BEGIN:STANDARD
TZOFFSETFROM:-0400
TZOFFSETTO:-0500
TZNAME:EST
DTSTART:20231105T060000
END:STANDARD
BEGIN:DAYLIGHT
TZOFFSETFROM:-0500
TZOFFSETTO:-0400
TZNAME:EDT
DTSTART:20240310T070000
END:DAYLIGHT
BEGIN:STANDARD
TZOFFSETFROM:-0400
TZOFFSETTO:-0500
TZNAME:EST
DTSTART:20241103T060000
END:STANDARD
BEGIN:DAYLIGHT
TZOFFSETFROM:-0500
TZOFFSETTO:-0400
TZNAME:EDT
DTSTART:20250309T070000
END:DAYLIGHT
BEGIN:STANDARD
TZOFFSETFROM:-0400
TZOFFSETTO:-0500
TZNAME:EST
DTSTART:20251102T060000
END:STANDARD
END:VTIMEZONE
BEGIN:VEVENT
DTSTART;TZID=America/New_York:20241217T120000
DTEND;TZID=America/New_York:20241217T133000
DTSTAMP:20260421T192300
CREATED:20241113T191648Z
LAST-MODIFIED:20241114T141839Z
UID:28664-1734436800-1734442200@ritualwell.org
SUMMARY:A Secret Chord: Exploring Leonard Cohen’s Sacred/Secular Songs
DESCRIPTION:December 10 and 17\, 2024\n12-1:30 p.m. EST\n$54\n \n\nThe iconic songs of Leonard Cohen have influenced the cultural landscape\, from films to well-known cover renditions to contemporary liturgy. Throughout his life\, Cohen wrestled with Jewish tradition and many of his lyrics and poems are woven with references to the Bible\, psalms\, Lurianic kabbalah\, and traditional Jewish prayers.\n \nJoin writer Amy Gottlieb for an interactive discussion to unpack several songs\, examining how Cohen engages with Jewish texts and theology. Our discussion will conclude with a generative writing workshop using prompts from poems and song lyrics.\n\n \nBoth sessions will be recorded and sent to participants. We encourage live attendance for you to get the most out of the experience.\nAmy Gottlieb’s debut novel\, The Beautiful Possible\, was a finalist for the Ribalow Prize\, Wallant Award\, and National Jewish Book Award. Her fiction and poetry have been published in On Being\, Lilith\, Ilanot Review\, Paper Brigade\, and Bloomsbury Anthology of Contemporary Jewish American Poetry\, among others. She has taught at the San Miguel Writers Conference\, Canberra Writers Festival\, Sydney Jewish Writers Festival\, AWP\, New York Public Library\, and elsewhere. She lives in New York City\, where she teaches fiction workshops and works with individual writers on book projects.\n 
URL:https://ritualwell.org/event/a-secret-chord-exploring-leonard-cohens-sacred-secular-songs/2024-12-17/
LOCATION:Zoom
CATEGORIES:Event
ATTACH;FMTTYPE=image/png:https://ritualwell.org/wp-content/uploads/sites/2/2024/11/SecretChord_AmyGottlieb_Dec2024-raw.png
END:VEVENT
BEGIN:VEVENT
DTSTART;TZID=America/New_York:20241210T120000
DTEND;TZID=America/New_York:20241210T133000
DTSTAMP:20260421T192300
CREATED:20241113T191648Z
LAST-MODIFIED:20241114T141838Z
UID:28663-1733832000-1733837400@ritualwell.org
SUMMARY:A Secret Chord: Exploring Leonard Cohen’s Sacred/Secular Songs
DESCRIPTION:December 10 and 17\, 2024\n12-1:30 p.m. EST\n$54\n \n\nThe iconic songs of Leonard Cohen have influenced the cultural landscape\, from films to well-known cover renditions to contemporary liturgy. Throughout his life\, Cohen wrestled with Jewish tradition and many of his lyrics and poems are woven with references to the Bible\, psalms\, Lurianic kabbalah\, and traditional Jewish prayers.\n \nJoin writer Amy Gottlieb for an interactive discussion to unpack several songs\, examining how Cohen engages with Jewish texts and theology. Our discussion will conclude with a generative writing workshop using prompts from poems and song lyrics.\n\n \nBoth sessions will be recorded and sent to participants. We encourage live attendance for you to get the most out of the experience.\nAmy Gottlieb’s debut novel\, The Beautiful Possible\, was a finalist for the Ribalow Prize\, Wallant Award\, and National Jewish Book Award. Her fiction and poetry have been published in On Being\, Lilith\, Ilanot Review\, Paper Brigade\, and Bloomsbury Anthology of Contemporary Jewish American Poetry\, among others. She has taught at the San Miguel Writers Conference\, Canberra Writers Festival\, Sydney Jewish Writers Festival\, AWP\, New York Public Library\, and elsewhere. She lives in New York City\, where she teaches fiction workshops and works with individual writers on book projects.\n 
URL:https://ritualwell.org/event/a-secret-chord-exploring-leonard-cohens-sacred-secular-songs/2024-12-10/
LOCATION:Zoom
CATEGORIES:Event
ATTACH;FMTTYPE=image/png:https://ritualwell.org/wp-content/uploads/sites/2/2024/11/SecretChord_AmyGottlieb_Dec2024-raw.png
END:VEVENT
BEGIN:VEVENT
DTSTART;TZID=America/New_York:20240102T120000
DTEND;TZID=America/New_York:20240102T133000
DTSTAMP:20260421T192300
CREATED:20230805T140038Z
LAST-MODIFIED:20231222T160814Z
UID:20043-1704196800-1704202200@ritualwell.org
SUMMARY:Creative Midrash: Beyond Talmudic Texts
DESCRIPTION:Tuesdays\, January 2\, 9\, 16\, 23\, 30 and February 6\, 2024 \n12-1:30 p.m. EST\n$250 \nTalmudic narratives are filled with distinctive characters\, strange plots\, and enigmatic silences. These stories provide a treasure trove for creative writers. For example\, when Moses sits in the back of Rabbi Akiva’s classroom and doesn’t recognize his own teachings\, how might we imagine Moses’s sense of dissonance? If we transpose the emotional core of this scene to another setting\, what story would we conjure? In each class\, we’ll explore a specific Talmudic text with a lens on character\, images\, narrative twists\, and unspoken qualities that pique our curiosity. We’ll then pivot to a generative session in which we write from prompts related to our text study. Be prepared to surprise yourself on the page as you uncover fresh possibilities in your writing practice. This generative workshop is suitable for creative writers of all levels as well as readers seeking to engage imaginatively with Jewish texts. \nAll sessions will be recorded and sent to participants. We encourage live attendance for you to get the most out of the experience. \n  \nAmy Gottlieb‘s debut novel The Beautiful Possible was a finalist for the 2017 Harold U. Ribalow Prize\, a 2016 National Jewish Book Award and the Edward Lewis Wallant Award. Her fiction and poetry have been published in Other Voices\, Lilith\, Puerto del Sol\, Ilanot Review\, On Being\, Zeek\, Storyscape\, The Bloomsbury Anthology of Contemporary Jewish American Poetry\, and elsewhere. She has received a Literary Fellowship and Residency from the Bronx Council on the Arts and an Arts Fellowship from the Drisha Institute for Jewish Education. Amy is a graduate of Clark University and the University of Chicago. She lives with her family on the edge of the Hudson River in New York City.
URL:https://ritualwell.org/event/creative-midrash-beyond-talmudic-texts/2024-01-02/
LOCATION:Zoom
CATEGORIES:Immersions
ATTACH;FMTTYPE=image/jpeg:https://ritualwell.org/wp-content/uploads/sites/2/2023/07/woman-in-gown-and-crown-with-flying-books-arouond-her-scaled.jpg
END:VEVENT
BEGIN:VEVENT
DTSTART;TZID=America/New_York:20230302T120000
DTEND;TZID=America/New_York:20230302T133000
DTSTAMP:20260421T192300
CREATED:20221208T221006Z
LAST-MODIFIED:20230209T215249Z
UID:16299-1677758400-1677763800@ritualwell.org
SUMMARY:Story Magic: Fiction Writing Through a Jewish Lens\, Part 2
DESCRIPTION:March 2\, 9\, 16\, 23\, 30\, 2023\n12:00–1:30 p.m. EST \nFrom biblical and midrashic narratives to contemporary fiction published in literary journals\, good stories ignite our imaginations and serve as portals to the human experience. In this generative workshop\, we’ll explore the craft of fiction through reading and writing as we unfold the wings of imaginative prose. Each week we’ll discuss a short story\, assimilate craft techniques\, and write from prompts. This workshop is suitable for poets\, journalists\, fiction writers\, and curious readers. While this immersion is a continuation of the fall series\, new participants are encouraged to join.\n \nAmy Gottlieb‘s debut novel The Beautiful Possible was a finalist for the 2017 Harold U. Ribalow Prize\, a 2016 National Jewish Book Award and Edward Lewis Wallant Award. Her fiction and poetry have been published in Other Voices\, Lilith\, Puerto del Sol\, Ilanot Review\, On Being\, Zeek\, Storyscape\, The Bloomsbury Anthology of Contemporary Jewish American Poetry\, and elsewhere. She has received a Literary Fellowship and Residency from the Bronx Council on the Arts\, and an Arts Fellowship from the Drisha Institute for Jewish Education. Amy is a graduate of Clark University and the University of Chicago. She lives with her family on the edge of the Hudson River in New York City. \nAll sessions will be recorded and sent to participants. We encourage live attendance for you to get the most out of the experience.
URL:https://ritualwell.org/event/story-magic-fiction-writing-through-a-jewish-lens-part-2/2023-03-02/
LOCATION:Zoom
CATEGORIES:Immersions
END:VEVENT
BEGIN:VEVENT
DTSTART;TZID=America/New_York:20221101T120000
DTEND;TZID=America/New_York:20221101T133000
DTSTAMP:20260421T192301
CREATED:20220817T221403Z
LAST-MODIFIED:20220830T162715Z
UID:11564-1667304000-1667309400@ritualwell.org
SUMMARY:Story Magic: Fiction Writing Through a Jewish Lens\, Part 1
DESCRIPTION:From biblical and midrashic narratives to contemporary fiction published in literary journals\, good stories ignite our imaginations and serve as portals to the human experience. In this generative workshop\, we’ll explore the craft of fiction through reading and writing as we unfold the wings of imaginative prose. Each week we’ll discuss a short story\, assimilate craft techniques\, and write from prompts. This workshop is suitable for poets\, journalists\, fiction writers\, and curious readers. \nAmy Gottlieb‘s debut novel The Beautiful Possible was a finalist for the 2017 Harold U. Ribalow Prize\, a 2016 National Jewish Book Award and Edward Lewis Wallant Award. Her fiction and poetry have been published in Other Voices\, Lilith\, Puerto del Sol\, Ilanot Review\, On Being\, Zeek\, Storyscape\, The Bloomsbury Anthology of Contemporary Jewish American Poetry\, and elsewhere. She has received a Literary Fellowship and Residency from the Bronx Council on the Arts\, and an Arts Fellowship from the Drisha Institute for Jewish Education. Amy is a graduate of Clark University and the University of Chicago. She lives with her family on the edge of the Hudson River in New York City. \nAll sessions will be recorded and sent to participants. We encourage live attendance for you to get the most out of the experience.
URL:https://ritualwell.org/event/story-magic-fiction-writing-through-a-jewish-lens/2022-11-01/
LOCATION:Zoom
CATEGORIES:Immersions
ATTACH;FMTTYPE=image/png:https://ritualwell.org/wp-content/uploads/sites/2/2022/08/Story-Magic-NovDec22-ForWeb.png
END:VEVENT
END:VCALENDAR