BEGIN:VCALENDAR
VERSION:2.0
PRODID:-//Ritualwell - ECPv6.15.19//NONSGML v1.0//EN
CALSCALE:GREGORIAN
METHOD:PUBLISH
X-ORIGINAL-URL:https://ritualwell.org
X-WR-CALDESC:Events for Ritualwell
REFRESH-INTERVAL;VALUE=DURATION:PT1H
X-Robots-Tag:noindex
X-PUBLISHED-TTL:PT1H
BEGIN:VTIMEZONE
TZID:America/New_York
BEGIN:DAYLIGHT
TZOFFSETFROM:-0500
TZOFFSETTO:-0400
TZNAME:EDT
DTSTART:20230312T070000
END:DAYLIGHT
BEGIN:STANDARD
TZOFFSETFROM:-0400
TZOFFSETTO:-0500
TZNAME:EST
DTSTART:20231105T060000
END:STANDARD
BEGIN:DAYLIGHT
TZOFFSETFROM:-0500
TZOFFSETTO:-0400
TZNAME:EDT
DTSTART:20240310T070000
END:DAYLIGHT
BEGIN:STANDARD
TZOFFSETFROM:-0400
TZOFFSETTO:-0500
TZNAME:EST
DTSTART:20241103T060000
END:STANDARD
BEGIN:DAYLIGHT
TZOFFSETFROM:-0500
TZOFFSETTO:-0400
TZNAME:EDT
DTSTART:20250309T070000
END:DAYLIGHT
BEGIN:STANDARD
TZOFFSETFROM:-0400
TZOFFSETTO:-0500
TZNAME:EST
DTSTART:20251102T060000
END:STANDARD
END:VTIMEZONE
BEGIN:VEVENT
DTSTART;TZID=America/New_York:20240229T120000
DTEND;TZID=America/New_York:20240229T133000
DTSTAMP:20260420T043033
CREATED:20231221T151137Z
LAST-MODIFIED:20231221T151137Z
UID:22843-1709208000-1709213400@ritualwell.org
SUMMARY:Finding Our Place in the Stories of the Hebrew Matriarch: Sarah
DESCRIPTION:Thursdays\, February 29 and March 7\, 14\, 21\, 2024\n12-1:30 p.m. EST\n$180\n \n\n“The Kabbalah teaches that all the characters of the Torah are within ourselves.” \n—Miki Raver\, ‘Listen to Her Voice: Women of the Hebrew Bible’\n \nIt might seem that to gain the full stories of the matriarchs of the Hebrew Bible we need to read between the lines. But there is much to discover and explore within the texts themselves where hints and information are hiding in plain sight. In this 4-week workshop author\, poet\, and Certified Dreamwork Professional Tzivia Gover will share what she learned about Sarah when she used poetry and imagination to move beyond seeing her merely as an adjunct to Abraham and Isaac\, and instead as a powerful woman\, prophet\, and priestess in her own right. In this Immersion we will  learn how reclaiming the stories of Sarah and the Hebrew matriarchs through poetic writing can empower us to know ourselves more fully—and access the gifts of wisdom\, healing\, and joy that are our universal birthright.\n \nTzivia will invite participants to reconsider key passages from Genesis\, beginning with the first Hebrew matriarch\, using interpretive tools including:\n\nPaRDeS\, the Kabbalistic method of interpretation that explores what is said explicitly\, as well as hints\, questions\, and secret meanings;\nDreamwork methods for unlocking the information transmitted through archetypes\, symbolism and story; and\nLiterary analysis.\n\nWe’ll also use guided visualization\, writing prompts\, and exercises based on those techniques\, and participants will be invited to write poems and stories of their own. This workshop is appropriate for everyone\, whether you consider yourself a writer or not\, and no matter what your level of Jewish education or experience.\n \n\nAll sessions will be recorded and sent to participants. We encourage live attendance for you to get the most out of the experience.\n \nTzivia Gover is the author of ‘Dreaming on the Page: Tap into Your Midnight Mind to Supercharge Your Writing’\, and other books about dreams\, writing\, and everyday joy. She is the creator of ‘The Life of H: Sarah\, Reimagined’ an online poetry project. The founder of 350 Dreamers\, an online international community dreaming for global healing in this time of climate crisis\, Tzivia is a board member of the International Association for the Study of Dreams and a past Director at the Institute for Dream Studies. Tzivia is a Certified Dreamwork Professional and a Certified Proprioceptive Writing Instructor. She has her MFA in writing from Columbia University\, and has taught in college and community settings domestically and abroad. Learn more at www.thirdhousemoon.com and https://tziviagover.substack.com.\n \n 
URL:https://ritualwell.org/event/finding-our-place-in-the-stories-of-the-hebrew-matriarch-sarah/2024-02-29/
LOCATION:Zoom
CATEGORIES:Immersions
ATTACH;FMTTYPE=image/png:https://ritualwell.org/wp-content/uploads/sites/2/2023/12/TziviaGover_Sarah_FebMar2024-raw.png
END:VEVENT
END:VCALENDAR