BEGIN:VCALENDAR
VERSION:2.0
PRODID:-//Ritualwell - ECPv6.15.19//NONSGML v1.0//EN
CALSCALE:GREGORIAN
METHOD:PUBLISH
X-WR-CALNAME:Ritualwell
X-ORIGINAL-URL:https://ritualwell.org
X-WR-CALDESC:Events for Ritualwell
REFRESH-INTERVAL;VALUE=DURATION:PT1H
X-Robots-Tag:noindex
X-PUBLISHED-TTL:PT1H
BEGIN:VTIMEZONE
TZID:America/New_York
BEGIN:DAYLIGHT
TZOFFSETFROM:-0500
TZOFFSETTO:-0400
TZNAME:EDT
DTSTART:20230312T070000
END:DAYLIGHT
BEGIN:STANDARD
TZOFFSETFROM:-0400
TZOFFSETTO:-0500
TZNAME:EST
DTSTART:20231105T060000
END:STANDARD
BEGIN:DAYLIGHT
TZOFFSETFROM:-0500
TZOFFSETTO:-0400
TZNAME:EDT
DTSTART:20240310T070000
END:DAYLIGHT
BEGIN:STANDARD
TZOFFSETFROM:-0400
TZOFFSETTO:-0500
TZNAME:EST
DTSTART:20241103T060000
END:STANDARD
BEGIN:DAYLIGHT
TZOFFSETFROM:-0500
TZOFFSETTO:-0400
TZNAME:EDT
DTSTART:20250309T070000
END:DAYLIGHT
BEGIN:STANDARD
TZOFFSETFROM:-0400
TZOFFSETTO:-0500
TZNAME:EST
DTSTART:20251102T060000
END:STANDARD
END:VTIMEZONE
BEGIN:VEVENT
DTSTART;TZID=America/New_York:20240903T120000
DTEND;TZID=America/New_York:20240903T133000
DTSTAMP:20260423T201622
CREATED:20240711T191236Z
LAST-MODIFIED:20240905T175453Z
UID:25262-1725364800-1725370200@ritualwell.org
SUMMARY:Gates of Awe: Writing New High Holiday Liturgy
DESCRIPTION:Tuesdays\, September 3\, 10\, 17\, 24\, 2024\n12-1:30 p.m. EDT\n$180 for four sessions\n \nDuring the month of Elul\, unleash your creativity and get ready for the High Holidays with poet and liturgist Alden Solovy. Dive into the richness and depth of four gems from our High Holy Day Mahzor – Un’taneh Tokef (Power of the Day)\, Vidui (Confession)\, Kol Nidre (Release)\, and Avinu Malkeinu (Almighty and Merciful) – through reading\, discussions\, and writing exercises. Additionally\, get a sneak peek at Alden’s upcoming book\, ‘Enter These Gates: Meditations for the Days of Awe\,’ and respond to these meditations with your own writing. By drawing from both ancient and modern sources\, you’ll be ready to welcome the new year with your unique\, original prayers.\n \nAll sessions will be recorded and sent to participants. We encourage live attendance for you to get the most out of the experience.\n \nAlden Solovy is a modern day piytan\, a traveling poet/preacher/teacher who uses Torah and verse to engage and inspire. Alden embodies the intersection of scholarship and heart and his presence is sought after in Jewish spiritual spaces around the world. Alden’s work challenges the boundaries between poetry\, song\, meditation\, personal growth\, storytelling\, and prayer\, appearing in both song and verse. His teaching spans from HUC-JIR and the Conservative Yeshiva in Jerusalem to Limmud and Leo Baeck College in the UK\, as well as synagogues throughout North America. Alden’s fifth volume of Torah and t’fillah inspired poetry\, Enter These Gates: Meditations for the Days of Awe\, is forthcoming this summer. His other CCAR Press volumes are: These Words: Poetic Midrash on the Language of Torah (2023)\, This Grateful Heart: Psalms and Prayers for a New Day (2017)\, This Joyous Soul: A New Voice for Ancient Yearnings (2019)\, and This Precious Life: Encountering the Divine with Poetry and Prayer (2021). Alden made Aliyah to Jerusalem in 2012\, where he is Liturgist in Residence at the Pardes Institute of Jewish Studies. Find more of his work at www.tobendlight.com. \n 
URL:https://ritualwell.org/event/gates-of-awe-writing-new-high-holiday-liturgy/2024-09-03/
LOCATION:Zoom
CATEGORIES:Immersions
ATTACH;FMTTYPE=image/png:https://ritualwell.org/wp-content/uploads/sites/2/2024/07/GatesofAwe_-AldenSolovy_Sept2024_raw.png
END:VEVENT
BEGIN:VEVENT
DTSTART;TZID=America/New_York:20240910T120000
DTEND;TZID=America/New_York:20240910T133000
DTSTAMP:20260423T201622
CREATED:20240711T191236Z
LAST-MODIFIED:20240905T175454Z
UID:25264-1725969600-1725975000@ritualwell.org
SUMMARY:Gates of Awe: Writing New High Holiday Liturgy
DESCRIPTION:Tuesdays\, September 3\, 10\, 17\, 24\, 2024\n12-1:30 p.m. EDT\n$180 for four sessions\n \nDuring the month of Elul\, unleash your creativity and get ready for the High Holidays with poet and liturgist Alden Solovy. Dive into the richness and depth of four gems from our High Holy Day Mahzor – Un’taneh Tokef (Power of the Day)\, Vidui (Confession)\, Kol Nidre (Release)\, and Avinu Malkeinu (Almighty and Merciful) – through reading\, discussions\, and writing exercises. Additionally\, get a sneak peek at Alden’s upcoming book\, ‘Enter These Gates: Meditations for the Days of Awe\,’ and respond to these meditations with your own writing. By drawing from both ancient and modern sources\, you’ll be ready to welcome the new year with your unique\, original prayers.\n \nAll sessions will be recorded and sent to participants. We encourage live attendance for you to get the most out of the experience.\n \nAlden Solovy is a modern day piytan\, a traveling poet/preacher/teacher who uses Torah and verse to engage and inspire. Alden embodies the intersection of scholarship and heart and his presence is sought after in Jewish spiritual spaces around the world. Alden’s work challenges the boundaries between poetry\, song\, meditation\, personal growth\, storytelling\, and prayer\, appearing in both song and verse. His teaching spans from HUC-JIR and the Conservative Yeshiva in Jerusalem to Limmud and Leo Baeck College in the UK\, as well as synagogues throughout North America. Alden’s fifth volume of Torah and t’fillah inspired poetry\, Enter These Gates: Meditations for the Days of Awe\, is forthcoming this summer. His other CCAR Press volumes are: These Words: Poetic Midrash on the Language of Torah (2023)\, This Grateful Heart: Psalms and Prayers for a New Day (2017)\, This Joyous Soul: A New Voice for Ancient Yearnings (2019)\, and This Precious Life: Encountering the Divine with Poetry and Prayer (2021). Alden made Aliyah to Jerusalem in 2012\, where he is Liturgist in Residence at the Pardes Institute of Jewish Studies. Find more of his work at www.tobendlight.com. \n 
URL:https://ritualwell.org/event/gates-of-awe-writing-new-high-holiday-liturgy/2024-09-10/
LOCATION:Zoom
CATEGORIES:Immersions
ATTACH;FMTTYPE=image/png:https://ritualwell.org/wp-content/uploads/sites/2/2024/07/GatesofAwe_-AldenSolovy_Sept2024_raw.png
END:VEVENT
BEGIN:VEVENT
DTSTART;TZID=America/New_York:20240917T120000
DTEND;TZID=America/New_York:20240917T133000
DTSTAMP:20260423T201622
CREATED:20240711T191236Z
LAST-MODIFIED:20240905T175454Z
UID:25265-1726574400-1726579800@ritualwell.org
SUMMARY:Gates of Awe: Writing New High Holiday Liturgy
DESCRIPTION:Tuesdays\, September 3\, 10\, 17\, 24\, 2024\n12-1:30 p.m. EDT\n$180 for four sessions\n \nDuring the month of Elul\, unleash your creativity and get ready for the High Holidays with poet and liturgist Alden Solovy. Dive into the richness and depth of four gems from our High Holy Day Mahzor – Un’taneh Tokef (Power of the Day)\, Vidui (Confession)\, Kol Nidre (Release)\, and Avinu Malkeinu (Almighty and Merciful) – through reading\, discussions\, and writing exercises. Additionally\, get a sneak peek at Alden’s upcoming book\, ‘Enter These Gates: Meditations for the Days of Awe\,’ and respond to these meditations with your own writing. By drawing from both ancient and modern sources\, you’ll be ready to welcome the new year with your unique\, original prayers.\n \nAll sessions will be recorded and sent to participants. We encourage live attendance for you to get the most out of the experience.\n \nAlden Solovy is a modern day piytan\, a traveling poet/preacher/teacher who uses Torah and verse to engage and inspire. Alden embodies the intersection of scholarship and heart and his presence is sought after in Jewish spiritual spaces around the world. Alden’s work challenges the boundaries between poetry\, song\, meditation\, personal growth\, storytelling\, and prayer\, appearing in both song and verse. His teaching spans from HUC-JIR and the Conservative Yeshiva in Jerusalem to Limmud and Leo Baeck College in the UK\, as well as synagogues throughout North America. Alden’s fifth volume of Torah and t’fillah inspired poetry\, Enter These Gates: Meditations for the Days of Awe\, is forthcoming this summer. His other CCAR Press volumes are: These Words: Poetic Midrash on the Language of Torah (2023)\, This Grateful Heart: Psalms and Prayers for a New Day (2017)\, This Joyous Soul: A New Voice for Ancient Yearnings (2019)\, and This Precious Life: Encountering the Divine with Poetry and Prayer (2021). Alden made Aliyah to Jerusalem in 2012\, where he is Liturgist in Residence at the Pardes Institute of Jewish Studies. Find more of his work at www.tobendlight.com. \n 
URL:https://ritualwell.org/event/gates-of-awe-writing-new-high-holiday-liturgy/2024-09-17/
LOCATION:Zoom
CATEGORIES:Immersions
ATTACH;FMTTYPE=image/png:https://ritualwell.org/wp-content/uploads/sites/2/2024/07/GatesofAwe_-AldenSolovy_Sept2024_raw.png
END:VEVENT
BEGIN:VEVENT
DTSTART;TZID=America/New_York:20240924T120000
DTEND;TZID=America/New_York:20240924T133000
DTSTAMP:20260423T201622
CREATED:20240711T191236Z
LAST-MODIFIED:20240905T175455Z
UID:25266-1727179200-1727184600@ritualwell.org
SUMMARY:Gates of Awe: Writing New High Holiday Liturgy
DESCRIPTION:Tuesdays\, September 3\, 10\, 17\, 24\, 2024\n12-1:30 p.m. EDT\n$180 for four sessions\n \nDuring the month of Elul\, unleash your creativity and get ready for the High Holidays with poet and liturgist Alden Solovy. Dive into the richness and depth of four gems from our High Holy Day Mahzor – Un’taneh Tokef (Power of the Day)\, Vidui (Confession)\, Kol Nidre (Release)\, and Avinu Malkeinu (Almighty and Merciful) – through reading\, discussions\, and writing exercises. Additionally\, get a sneak peek at Alden’s upcoming book\, ‘Enter These Gates: Meditations for the Days of Awe\,’ and respond to these meditations with your own writing. By drawing from both ancient and modern sources\, you’ll be ready to welcome the new year with your unique\, original prayers.\n \nAll sessions will be recorded and sent to participants. We encourage live attendance for you to get the most out of the experience.\n \nAlden Solovy is a modern day piytan\, a traveling poet/preacher/teacher who uses Torah and verse to engage and inspire. Alden embodies the intersection of scholarship and heart and his presence is sought after in Jewish spiritual spaces around the world. Alden’s work challenges the boundaries between poetry\, song\, meditation\, personal growth\, storytelling\, and prayer\, appearing in both song and verse. His teaching spans from HUC-JIR and the Conservative Yeshiva in Jerusalem to Limmud and Leo Baeck College in the UK\, as well as synagogues throughout North America. Alden’s fifth volume of Torah and t’fillah inspired poetry\, Enter These Gates: Meditations for the Days of Awe\, is forthcoming this summer. His other CCAR Press volumes are: These Words: Poetic Midrash on the Language of Torah (2023)\, This Grateful Heart: Psalms and Prayers for a New Day (2017)\, This Joyous Soul: A New Voice for Ancient Yearnings (2019)\, and This Precious Life: Encountering the Divine with Poetry and Prayer (2021). Alden made Aliyah to Jerusalem in 2012\, where he is Liturgist in Residence at the Pardes Institute of Jewish Studies. Find more of his work at www.tobendlight.com. \n 
URL:https://ritualwell.org/event/gates-of-awe-writing-new-high-holiday-liturgy/2024-09-24/
LOCATION:Zoom
CATEGORIES:Immersions
ATTACH;FMTTYPE=image/png:https://ritualwell.org/wp-content/uploads/sites/2/2024/07/GatesofAwe_-AldenSolovy_Sept2024_raw.png
END:VEVENT
BEGIN:VEVENT
DTSTART;TZID=America/New_York:20240925T120000
DTEND;TZID=America/New_York:20240925T133000
DTSTAMP:20260423T201622
CREATED:20240724T113240Z
LAST-MODIFIED:20240725T141156Z
UID:25269-1727265600-1727271000@ritualwell.org
SUMMARY:The Poetry of Your Ancestors
DESCRIPTION:Wednesday\, September 25\, 2024\n12- 1:30 p.m. EDT \n \nJoin us as we investigate\, conjure\, and generate new poetry from our ancestral wisdom\, and delve into our prophetic ancestors in our Jewish sacred texts. Led by Anna Goodman Herrick\, author of A Speaker is a Wilderness: Poems on the Sacred Path from Broken Whole \, this Rituawell Event aligns with the month of Elul\, a time of introspection and reflection in the Jewish calendar. At this moment in Jewish time\, we re-examine our spiritual goals in order to get ourselves ready for the Days of Awe. Learn innovative and nourishing approaches to engaging with sacred texts and connect with your own sacred wisdom\, transforming it into poetry. For new and seasoned writers alike. No prior writing experience necessary.\n \nThis event will be recorded and sent to participants. We encourage live attendance for you to get the most out of the experience.\n \n \nAnna Goodman Herrick is the author of A Speaker is a Wilderness: Poems on the Sacred Path from Broken Whole (Monkfish\, 2024). She works at the intersection of spirituality\, sacred words\, and human rights\, towards collective liberation. Anna has performed her poetry at the Emily Dickinson Museum and One Billion Rising’s Artist Uprising at the El Paso Border\, and shared her work at the Library of Congress\, the U.S. Holocaust Memorial Museum\, and Bloomsday on Broadway. She has recent and upcoming poetry in Spirituality + Health Magazine\, Rattle\, and the Los Angeles Press. Anna has created work for television and branded content for platforms like Teen Vogue\, Sony\, ABC Family\, Oprah Winfrey Network\, MTV\, and the Sundance Channel\, and created installations based on her poetry for museums and galleries worldwide. \n 
URL:https://ritualwell.org/event/the-poetry-of-your-ancestors/
LOCATION:Zoom
CATEGORIES:Event
ATTACH;FMTTYPE=image/png:https://ritualwell.org/wp-content/uploads/sites/2/2024/07/ThePoetryofYourAncestors_AnnaGoodmanHerrick_Sept2024-raw.png
END:VEVENT
END:VCALENDAR