BEGIN:VCALENDAR
VERSION:2.0
PRODID:-//Ritualwell - ECPv6.15.19//NONSGML v1.0//EN
CALSCALE:GREGORIAN
METHOD:PUBLISH
X-ORIGINAL-URL:https://ritualwell.org
X-WR-CALDESC:Events for Ritualwell
REFRESH-INTERVAL;VALUE=DURATION:PT1H
X-Robots-Tag:noindex
X-PUBLISHED-TTL:PT1H
BEGIN:VTIMEZONE
TZID:America/New_York
BEGIN:DAYLIGHT
TZOFFSETFROM:-0500
TZOFFSETTO:-0400
TZNAME:EDT
DTSTART:20220313T070000
END:DAYLIGHT
BEGIN:STANDARD
TZOFFSETFROM:-0400
TZOFFSETTO:-0500
TZNAME:EST
DTSTART:20221106T060000
END:STANDARD
BEGIN:DAYLIGHT
TZOFFSETFROM:-0500
TZOFFSETTO:-0400
TZNAME:EDT
DTSTART:20230312T070000
END:DAYLIGHT
BEGIN:STANDARD
TZOFFSETFROM:-0400
TZOFFSETTO:-0500
TZNAME:EST
DTSTART:20231105T060000
END:STANDARD
BEGIN:DAYLIGHT
TZOFFSETFROM:-0500
TZOFFSETTO:-0400
TZNAME:EDT
DTSTART:20240310T070000
END:DAYLIGHT
BEGIN:STANDARD
TZOFFSETFROM:-0400
TZOFFSETTO:-0500
TZNAME:EST
DTSTART:20241103T060000
END:STANDARD
END:VTIMEZONE
BEGIN:VEVENT
DTSTART;TZID=America/New_York:20231003T120000
DTEND;TZID=America/New_York:20231003T130000
DTSTAMP:20260422T021605
CREATED:20230907T185553Z
LAST-MODIFIED:20230907T200439Z
UID:21197-1696334400-1696338000@ritualwell.org
SUMMARY:Let's Get to Know Advot@Ritualwell
DESCRIPTION:You are invited to an informational session to learn more about Advot@Ritualwell.\n \nAdvot is an online creative community of Jewish ritual innovators\, poets and liturgists who meet regularly to share work\, support\, and empower each other and learn together. Whether a beginner or seasoned writer\, Advot@Ritualwell welcomes you wherever you are in your writing journey.\n \nNow in its third year\, Advot can support you in creating and innovating Jewish ritual\, poetry and liturgy; as well as exploring fiction\, prose\, song and memoir writing.\n \nMeet the Advot facilitators: Gabrielle Kaplan-Mayer and Adva Chattler. Gabrielle\, an award-winning author\, will lead a writing exercise to give you a tiny taste of Advot. Adva\, a founder of Advot\, will answer all the questions you might have.\n \nThis event is free to all who are interested in joining Advot @Ritualwell. Advot begins on Oct. 20. The early-bird price is being extended until Oct. 4.\n\n \n\nGabrielle Ariella Kaplan-Mayer is an author and educator whose work focuses on spirituality\, creativity and disability. Her personal essays have been featured in Tablet\, Shondaland\, NBCThink\, Wisdom Daily\, WHYY and many other publications and she has published several nonfiction books as well as plays for children. Gabrielle is currently working on a memoir about the power of intuition and ongoing conversations with her ancestors. She writes a Substack newsletter called “Journey With The Seasons\,” a weekly practice of meditative reading with creative self-expression prompts. Gabrielle holds a BFA in theater and creative writing from Emerson College and an MA in Jewish Studies from the Reconstructionist Rabbinical College. For the last 12 years\, she has held various positions at Jewish Learning Venture —an organization based in the Philadelphia suburbs — and has also been part of the education staff at Congregation Mishkan Shalom\, in Philly proper\, where she’s been a member for 25 years. She is the proud recipient of the 2022 Covenant Award and currently edits the Jewish Disability Inclusion News. Gabrielle’s family includes husband Fred\, kids George (20) and Jeremy (18) and fur baby Odin (a Saluki rescued from Qatar). She lives in Elkins Park\, PA.   \n  \nAdva Chattler is an Israeli-Mizrahi Jew\, born and raised in Be’er-Sheva\, Israel. She loves to create meaningful experiences through her cooking and baking that prompt sharing stories\, teachings and rituals about Judaism\, Israel and Mizrahi Jewish cultures and heritage. Her rituals\, prayers and poems were published on Ritualwell. Adva is passionate about bringing people together in ways that spark relationship building and connecting to others on a deeper level\, both in the challenging and ever-changing world of online gatherings\, and in person. She holds a MA in conflict Resolution and Management from Ben Gurion University of the Negev and BA in Public Administration and Management from Sapir College in Sderot\, Israel. With her experience in teaching and curriculum building\, she support facilitators and presenters for Ritualwell and Reconstructing Judaism and encourage them to bring not only their best self\, but best practices and tools for successful teaching online. Adva is also a mother and a foodie who lives in Del Rio\, Tx.\, with her husband\, two daughters and two dogs.
URL:https://ritualwell.org/event/lets-get-to-know-advotritualwell/
LOCATION:Zoom
CATEGORIES:ADVOT,Free
ATTACH;FMTTYPE=image/jpeg:https://ritualwell.org/wp-content/uploads/sites/2/2023/08/iStock-1446662858-e1692978457703.jpg
END:VEVENT
BEGIN:VEVENT
DTSTART;TZID=America/New_York:20231018T120000
DTEND;TZID=America/New_York:20231018T133000
DTSTAMP:20260422T021605
CREATED:20230805T140052Z
LAST-MODIFIED:20230823T165243Z
UID:19212-1697630400-1697635800@ritualwell.org
SUMMARY:Honoring Heirloom through Words: Writing to Discover & Declutter
DESCRIPTION:Wednesdays\, October 18\, 25 and November 1\, 8\, 2023\n12-1:30 p.m. Eastern \nWhat stories do the objects in your home tell? Are they all heirlooms\, or do some hold sentimental value for small – maybe even silly – reasons? In this Ritualwell Immersion\, you will be invited to explore the stories these objects might tell and to use them to help discern what you want to hold onto and what things could be better used by others. Join decluttering coach Gari Julius Weilbacher and writer Ellen Blum Barish as they help shine a new light on the objects in your home. Gari will provide decluttering strategies using the wisdom of the Jewish calendar and the energy of the new year. Ellen will show us how we can deepen our understanding of our ‘object relationships’ through the power of writing memoir. Join us for this four-week Immersion to bring clarity and cohesion to your home and heart. \nAll sessions will be recorded and sent to participants. We encourage live attendance for you to get the most out of the experience. \n  \n\n \nEllen Blum Barish is the author of the spiritual memoir Seven Springs (Shanti Arts\, 2021)\, the essay collection Views from the Home Office Window (Adams Street Publishing\, 2007)\, and a contributor to Chicago Storytellers From Stage to Page (Chicago Story Press\, 2020). You can find her personal essays in Tablet\, Lilith\, Brevity’s Blog\, Full Grown People\, Literary Mama\, and The Chicago Tribune and hear them on Chicago Public Radio. She founded the literary publication Thread\, which earned four notables in Best American Essays. Ellen has taught writing at Northwestern University\, Chicago-area synagogues\, and writer’s studios\, including Story Studio Chicago and Lighthouse Lit Fest. She works privately with writers on essay collections and memoir. \n\n  \n  \n  \nAs an Empowerment Coach\, Gari Julius Weilbacher knows that we all benefit when we are freed from the “stuff” holding us back. Her clients have launched nonprofit organizations\, opened businesses\, published books\, established faith communities\, tamed time\, solidified work/life equilibrium and increased professional satisfaction. You can learn more and schedule a complimentary coaching conversation at WildBrookCoaching.com.\n \n \n \n \n \n \n 
URL:https://ritualwell.org/event/honoring-heirloom-through-words-writing-to-discover-declutter/2023-10-18/
LOCATION:Zoom
CATEGORIES:Immersions
ATTACH;FMTTYPE=image/jpeg:https://ritualwell.org/wp-content/uploads/sites/2/2023/06/antique-typewriter-with-other-memorabilia-sm-scaled.jpeg
END:VEVENT
END:VCALENDAR