BEGIN:VCALENDAR
VERSION:2.0
PRODID:-//Ritualwell - ECPv6.15.19//NONSGML v1.0//EN
CALSCALE:GREGORIAN
METHOD:PUBLISH
X-WR-CALNAME:Ritualwell
X-ORIGINAL-URL:https://ritualwell.org
X-WR-CALDESC:Events for Ritualwell
REFRESH-INTERVAL;VALUE=DURATION:PT1H
X-Robots-Tag:noindex
X-PUBLISHED-TTL:PT1H
BEGIN:VTIMEZONE
TZID:America/New_York
BEGIN:DAYLIGHT
TZOFFSETFROM:-0500
TZOFFSETTO:-0400
TZNAME:EDT
DTSTART:20220313T070000
END:DAYLIGHT
BEGIN:STANDARD
TZOFFSETFROM:-0400
TZOFFSETTO:-0500
TZNAME:EST
DTSTART:20221106T060000
END:STANDARD
BEGIN:DAYLIGHT
TZOFFSETFROM:-0500
TZOFFSETTO:-0400
TZNAME:EDT
DTSTART:20230312T070000
END:DAYLIGHT
BEGIN:STANDARD
TZOFFSETFROM:-0400
TZOFFSETTO:-0500
TZNAME:EST
DTSTART:20231105T060000
END:STANDARD
BEGIN:DAYLIGHT
TZOFFSETFROM:-0500
TZOFFSETTO:-0400
TZNAME:EDT
DTSTART:20240310T070000
END:DAYLIGHT
BEGIN:STANDARD
TZOFFSETFROM:-0400
TZOFFSETTO:-0500
TZNAME:EST
DTSTART:20241103T060000
END:STANDARD
END:VTIMEZONE
BEGIN:VEVENT
DTSTART;TZID=America/New_York:20230417T120000
DTEND;TZID=America/New_York:20230417T133000
DTSTAMP:20260422T190930
CREATED:20220817T220228Z
LAST-MODIFIED:20230106T185456Z
UID:11581-1681732800-1681738200@ritualwell.org
SUMMARY:Recognizing the Good: Writing Jewish Prayers and Poems of Gratitude
DESCRIPTION:April 17\, 24\, May 1\, 8\, 15\, 22\, 2023\n12:00–1:30 p.m. EST \nJudaism offers many opportunities to express gratitude\, from the morning blessing Modeh Ani to Shabbat and holidays. To inspire poetic and liturgical writing\, join us for a deep dive into the Jewish language of gratitude – hakarat hatov. Among our explorations: gratitude as a spiritual practice; hidden meanings in the language of gratitude; language that undermines gratitude; and the connection between prayer and gratitude. We’ll learn together and write from the heart. \n \nAlden Solovy spreads joy and excitement for prayer. An American Israeli liturgist\, lyricist\, poet\, author\, and educator\, Alden is the Liturgist-in-Residence for the Pardes Institute of Jewish Studies. Alden teaches prayer and spirituality throughout the world. Based in Jerusalem\, his six solo books include These Words: Poetic Midrash on the Langauge of Torah\,This Grateful Heart: Psalms and Prayers for a New Day\, This Joyous Soul: A New Voice for Ancient Yearnings\, and This Precious Life: Encountering the Divine with Poetry and Prayer\, all published by CCAR Press. A regular contributor to Ritualwell and a member of the Ritualwell Immersion faculty\, his work is anthologized in more than 20 other volumes across the religious spectrum. Alden also contributes regularly to RavBlog\, ReformJudaism.org\, and the Times of Israel. He’s a three-time winner of the Peter Lisagor Award for Exemplary Journalism. Alden made aliyah to Jerusalem in 2012. See his work at www.tobendlight.com. Alden can be reached at alden@tobendlight.com. \n  \nAll sessions will be recorded and sent to participants. We encourage live attendance for you to get the most out of the experience.
URL:https://ritualwell.org/event/recognizing-the-good-writing-jewish-prayers-and-poems-of-gratitude/2023-04-17/
CATEGORIES:Immersions
ATTACH;FMTTYPE=image/png:https://ritualwell.org/wp-content/uploads/sites/2/2022/08/Recognizing-the-Good-AprMay-Raw-for-Web.png
END:VEVENT
BEGIN:VEVENT
DTSTART;TZID=America/New_York:20230419T140000
DTEND;TZID=America/New_York:20230419T150000
DTSTAMP:20260422T190930
CREATED:20220824T180141Z
LAST-MODIFIED:20220824T180141Z
UID:14151-1681912800-1681916400@ritualwell.org
SUMMARY:ADVOT@Ritualwell Studio sessions - Spring semester
DESCRIPTION:Join in for a time to create and connect!
URL:https://ritualwell.org/event/advotritualwell-studio-sessions-spring-semester/2023-04-19/
LOCATION:Zoom
CATEGORIES:ADVOT,Monthly program
END:VEVENT
BEGIN:VEVENT
DTSTART;TZID=America/New_York:20230420T120000
DTEND;TZID=America/New_York:20230420T133000
DTSTAMP:20260422T190930
CREATED:20220817T220253Z
LAST-MODIFIED:20230517T141921Z
UID:11584-1681992000-1681997400@ritualwell.org
SUMMARY:Reclaiming the Hebrew Goddess & Writing Her Anew
DESCRIPTION:April 20\, 27\, May 4\, 11\, 18\, June 1\, 2023\n12:00–1:30 p.m. EST \nFor thousands of years before patriarchal monotheism took hold\, our ancestors worshipped the Divine Feminine. In this immersion\, we will take a deep dive into the legacy of the Hebrew goddess\, from her ancient biblical and Near Eastern roots to her demise at the hands of our prophets and scribes\, from her reemergence in mystical Judaism to her manifestations in Judaism today. Discover where her secrets are hidden and reclaim her for your own\, for the earth\, and for the generations to come. We will engage in thoughtful reflection and inspired creative writing with guided writing prompts. Join gynocentric Torah scholar\, creative writing professor\, and student rabbi Sivan Rotholz as we harvest the bounty of the Divine Feminine in Jewish tradition. No previous creative writing experience or knowledge of the goddess required. \nSivan Rotholz is a professor of gynocentric Torah and creative writing. She has taught at Brooklyn College\, Tel Aviv University\, Columbia/Barnard Hillel\, Moishe House\, and elsewhere\, and has shared her Torah in synagogues and living rooms across the globe. Her writing has appeared in the Jewish Journal\, 929\, and Ritualwell\, among other publications. She is the Education Director for Achayot – Jewish Women Writers\, and is pursuing rabbinic ordination from Hebrew Union College–Jewish Institute of Religion. \n  \nAll sessions will be recorded and sent to participants. We encourage live attendance for you to get the most out of the experience.
URL:https://ritualwell.org/event/reclaiming-the-hebrew-goddess-writing-her-anew/2023-04-20/
LOCATION:Zoom
CATEGORIES:Immersions
ATTACH;FMTTYPE=image/png:https://ritualwell.org/wp-content/uploads/sites/2/2022/08/Reclaiming-the-Hebrew-Goddess-Writing-Her-Anew-AprilMay23-ForWeb-1.png
END:VEVENT
END:VCALENDAR