BEGIN:VCALENDAR
VERSION:2.0
PRODID:-//Ritualwell - ECPv6.15.19//NONSGML v1.0//EN
CALSCALE:GREGORIAN
METHOD:PUBLISH
X-WR-CALNAME:Ritualwell
X-ORIGINAL-URL:https://ritualwell.org
X-WR-CALDESC:Events for Ritualwell
REFRESH-INTERVAL;VALUE=DURATION:PT1H
X-Robots-Tag:noindex
X-PUBLISHED-TTL:PT1H
BEGIN:VTIMEZONE
TZID:America/New_York
BEGIN:DAYLIGHT
TZOFFSETFROM:-0500
TZOFFSETTO:-0400
TZNAME:EDT
DTSTART:20230312T070000
END:DAYLIGHT
BEGIN:STANDARD
TZOFFSETFROM:-0400
TZOFFSETTO:-0500
TZNAME:EST
DTSTART:20231105T060000
END:STANDARD
BEGIN:DAYLIGHT
TZOFFSETFROM:-0500
TZOFFSETTO:-0400
TZNAME:EDT
DTSTART:20240310T070000
END:DAYLIGHT
BEGIN:STANDARD
TZOFFSETFROM:-0400
TZOFFSETTO:-0500
TZNAME:EST
DTSTART:20241103T060000
END:STANDARD
BEGIN:DAYLIGHT
TZOFFSETFROM:-0500
TZOFFSETTO:-0400
TZNAME:EDT
DTSTART:20250309T070000
END:DAYLIGHT
BEGIN:STANDARD
TZOFFSETFROM:-0400
TZOFFSETTO:-0500
TZNAME:EST
DTSTART:20251102T060000
END:STANDARD
END:VTIMEZONE
BEGIN:VEVENT
DTSTART;TZID=America/New_York:20240314T130000
DTEND;TZID=America/New_York:20240314T143000
DTSTAMP:20260425T172331
CREATED:20240212T202954Z
LAST-MODIFIED:20240213T162014Z
UID:23333-1710421200-1710426600@ritualwell.org
SUMMARY:Behind the Mask: A Creative Exploration of the Characters in the Purim Story
DESCRIPTION:Thursdays\, March 14 and 21\, 2024\n1-2:30 p.m. EDT \nWe each carry inside of us both the hero and the villain. One of the things that makes writing effective is the willingness of the writer to step into the voice of a character who we might not “identify” with. This is the way we build empathy\, both on the page and in our lives. \nThere is pshat\, the literal text of the Torah\, and drash\, the interpretation. So much of our understanding of Judaism and the Torah comes from the exploration of drash. In this workshop\, we will use the persona form—a kind of drash—where the writer takes on the mask or voice of a character who is clearly not them. We will try on the voices of multiple characters in the Purim Story and beyond. Gaining inspiration from texts by Patricia Smith\, Margaret Atwood\, and others to inspire us to move beyond writing from the personal “I” and see what we can discover about the Purim stories and their meaning for our own lives when we put on the mask and write. \nAll sessions will be recorded and sent to participants. We encourage live attendance for you to get the most out of the experience. \n  \nElana Bell is a poet\, sound practitioner and creative guide. She facilitates artistic rituals and processes that support individuals and groups in accessing their authentic voice and alchemizing raw experience and emotion into artistic expression. Elana is the author of Mother Country (BOA Editions 2020)\, poems about fertility\, motherhood\, and mental illness. Elana’s debut collection of poetry\, Eyes\, Stones (LSU Press 2012)\, was selected by Fanny Howe as the winner of the 2011 Walt Whitman Award from the Academy of American Poets and brings her complex heritage as the granddaughter of Holocaust survivors to consider the difficult question of the Israeli-Palestinian conflict. In addition to leading her own embodied Creative Fire workshops\, Elana teaches poetry to actors at the Juilliard School and sings with the Resistance Revival Chorus\, a group of women activists and musicians committed to bringing joy and song to the resistance movement. She is also the founder of the Mother Artist Salon\, a community dedicated to supporting mothers in their artistic practice. www.elanabell.com \n 
URL:https://ritualwell.org/event/behind-the-mask-a-creative-exploration-of-the-characters-in-the-purim-story/2024-03-14/
LOCATION:Zoom
CATEGORIES:Event
ATTACH;FMTTYPE=image/png:https://ritualwell.org/wp-content/uploads/sites/2/2024/02/ElanaBell_BehindtheMask_Purim2024-1.png
END:VEVENT
END:VCALENDAR