BEGIN:VCALENDAR
VERSION:2.0
PRODID:-//Ritualwell - ECPv6.15.19//NONSGML v1.0//EN
CALSCALE:GREGORIAN
METHOD:PUBLISH
X-ORIGINAL-URL:https://ritualwell.org
X-WR-CALDESC:Events for Ritualwell
REFRESH-INTERVAL;VALUE=DURATION:PT1H
X-Robots-Tag:noindex
X-PUBLISHED-TTL:PT1H
BEGIN:VTIMEZONE
TZID:America/New_York
BEGIN:DAYLIGHT
TZOFFSETFROM:-0500
TZOFFSETTO:-0400
TZNAME:EDT
DTSTART:20250309T070000
END:DAYLIGHT
BEGIN:STANDARD
TZOFFSETFROM:-0400
TZOFFSETTO:-0500
TZNAME:EST
DTSTART:20251102T060000
END:STANDARD
BEGIN:DAYLIGHT
TZOFFSETFROM:-0500
TZOFFSETTO:-0400
TZNAME:EDT
DTSTART:20260308T070000
END:DAYLIGHT
BEGIN:STANDARD
TZOFFSETFROM:-0400
TZOFFSETTO:-0500
TZNAME:EST
DTSTART:20261101T060000
END:STANDARD
BEGIN:DAYLIGHT
TZOFFSETFROM:-0500
TZOFFSETTO:-0400
TZNAME:EDT
DTSTART:20270314T070000
END:DAYLIGHT
BEGIN:STANDARD
TZOFFSETFROM:-0400
TZOFFSETTO:-0500
TZNAME:EST
DTSTART:20271107T060000
END:STANDARD
END:VTIMEZONE
BEGIN:VEVENT
DTSTART;TZID=America/New_York:20260217T120000
DTEND;TZID=America/New_York:20260217T133000
DTSTAMP:20260421T165912
CREATED:20251215T160915Z
LAST-MODIFIED:20260204T201629Z
UID:33273-1771329600-1771335000@ritualwell.org
SUMMARY:Lifting the Threads: Writing Past and Present
DESCRIPTION:Tuesday\, Feb 17 & 24 and March 3\, 2026\n12-1:30 p.m. \n$154\n \n\nAs storytellers\, how do we balance our present lived experience with the past that shapes it? In Jewish tradition\, memory and narrative carry profound weight—from the retelling of ancestral journeys in the Torah to the intimate stories passed through our families. In this 3-week workshop\, we’ll explore strategies for seamlessly integrating backstory\, experimenting with time shifts to deepen meaning rather than interrupt narrative flow. Through readings\, discussion\, and writing prompts\, we will move fluidly between temporal layers—the “forward momentum” of the lived story and the “backwards glance” demanded by memory.\n \nBy the end of the workshop\, you will produce a short memoir piece that demonstrates fluid interplay between present and past—using backstory as a source of resonance\, not digression\, and honoring the threads of memory that connect us to our histories and communities.\n \n\nAll sessions will be recorded and sent to participants. We encourage live attendance for you to get the most out of the experience.\n \nMegan Vered writes about family\, friendship\, and the dazzle of daily life. Megan lives in Marin County\, where she facilitates local\, international\, and Jewish-themed writing groups. Her essays and interviews have appeared in HuffPost\, Kveller\, The Jewish Writing Project\, High Country News\, the Los Angeles Review of Books\, and the Writer’s Chronicle\, among others. Megan holds an MFA in Creative Writing from Vermont College of Fine Arts and chairs the board of Heyday Books. Learn more about her work at www.meganvered.com\n \n \n 
URL:https://ritualwell.org/event/lifting-the-threads-writing-past-and-present/2026-02-17/
LOCATION:Zoom
CATEGORIES:Immersions
ATTACH;FMTTYPE=image/png:https://ritualwell.org/wp-content/uploads/sites/2/2025/12/Lifting-the-Threads-Writing-Past-and-Present-2026-raw.png
END:VEVENT
BEGIN:VEVENT
DTSTART;TZID=America/New_York:20260224T120000
DTEND;TZID=America/New_York:20260224T133000
DTSTAMP:20260421T165912
CREATED:20251215T160915Z
LAST-MODIFIED:20260204T201632Z
UID:33277-1771934400-1771939800@ritualwell.org
SUMMARY:Lifting the Threads: Writing Past and Present
DESCRIPTION:Tuesday\, Feb 17 & 24 and March 3\, 2026\n12-1:30 p.m. \n$154\n \n\nAs storytellers\, how do we balance our present lived experience with the past that shapes it? In Jewish tradition\, memory and narrative carry profound weight—from the retelling of ancestral journeys in the Torah to the intimate stories passed through our families. In this 3-week workshop\, we’ll explore strategies for seamlessly integrating backstory\, experimenting with time shifts to deepen meaning rather than interrupt narrative flow. Through readings\, discussion\, and writing prompts\, we will move fluidly between temporal layers—the “forward momentum” of the lived story and the “backwards glance” demanded by memory.\n \nBy the end of the workshop\, you will produce a short memoir piece that demonstrates fluid interplay between present and past—using backstory as a source of resonance\, not digression\, and honoring the threads of memory that connect us to our histories and communities.\n \n\nAll sessions will be recorded and sent to participants. We encourage live attendance for you to get the most out of the experience.\n \nMegan Vered writes about family\, friendship\, and the dazzle of daily life. Megan lives in Marin County\, where she facilitates local\, international\, and Jewish-themed writing groups. Her essays and interviews have appeared in HuffPost\, Kveller\, The Jewish Writing Project\, High Country News\, the Los Angeles Review of Books\, and the Writer’s Chronicle\, among others. Megan holds an MFA in Creative Writing from Vermont College of Fine Arts and chairs the board of Heyday Books. Learn more about her work at www.meganvered.com\n \n \n 
URL:https://ritualwell.org/event/lifting-the-threads-writing-past-and-present/2026-02-24/
LOCATION:Zoom
CATEGORIES:Immersions
ATTACH;FMTTYPE=image/png:https://ritualwell.org/wp-content/uploads/sites/2/2025/12/Lifting-the-Threads-Writing-Past-and-Present-2026-raw.png
END:VEVENT
BEGIN:VEVENT
DTSTART;TZID=America/New_York:20260224T140000
DTEND;TZID=America/New_York:20260224T150000
DTSTAMP:20260421T165912
CREATED:20260205T195934Z
LAST-MODIFIED:20260223T203110Z
UID:34030-1771941600-1771945200@ritualwell.org
SUMMARY:Uncovering Feminine Strength and Wisdom
DESCRIPTION:Tuesday\, February 24\, 2026\n2-3:00 p.m. \nWe invite you to join us and sample our upcoming Immersion\, Sarah and Hagar: Uncovering Feminine Strength and Wisdom in community. Join poet Tzivia and Ritualwell’s Gabrielle Kaplan-Mayer for an interactive conversation on Sarah\, Hagar\, and feminine wisdom\, followed by a creative writing prompt and time for sharing what we uncover. Consider it an opening doorway—if you’re drawn in\, the full series awaits. \nTo join us\, register here. \n\n \nTzivia Gover is the author of ‘Dreaming on the Page: Tap into Your Midnight Mind to Supercharge Your Writing‘\, and other books about dreams\, writing\, and everyday joy. She is the creator of ‘The Life of H: Sarah\, Reimagined’ an online poetry project. The founder of 350 Dreamers\, an online international community dreaming for global healing in this time of climate crisis\, Tzivia is a board member of the International Association for the Study of Dreams and a past Director at the Institute for Dream Studies. Tzivia is a Certified Dreamwork Professional and a Certified Proprioceptive Writing Instructor. She has her MFA in writing from Columbia University\, and has taught in college and community settings domestically and abroad. Learn more at www.thirdhousemoon.com and https://tziviagover.substack.com. \nGabrielle Ariella Kaplan-Mayer is Ritualwell’s Director of Virtual Content and Programs. She is an author and educator whose work focuses on spirituality\, creativity and disability. Her personal essays have been featured in Tablet\, Shondaland\, NBCThink\, Wisdom Daily\, WHYY and many other publications and she has published several nonfiction books as well as plays for children. Gabrielle is currently working on a memoir about the power of intuition and ongoing conversations with her ancestors. She writes a Substack newsletter called “Journey With The Seasons\,” a weekly practice of meditative reading with creative self-expression prompts. Gabrielle holds a BFA in theater and creative writing from Emerson College and an MA in Jewish Studies from the Reconstructionist Rabbinical College.
URL:https://ritualwell.org/event/uncovering-feminine-strength-and-wisdom/
LOCATION:Zoom
CATEGORIES:Event,Free
ATTACH;FMTTYPE=image/png:https://ritualwell.org/wp-content/uploads/sites/2/2023/12/TziviaGover_Sarah_FebMar2024-raw.png
END:VEVENT
END:VCALENDAR