BEGIN:VCALENDAR
VERSION:2.0
PRODID:-//Ritualwell - ECPv6.15.19//NONSGML v1.0//EN
CALSCALE:GREGORIAN
METHOD:PUBLISH
X-ORIGINAL-URL:https://ritualwell.org
X-WR-CALDESC:Events for Ritualwell
REFRESH-INTERVAL;VALUE=DURATION:PT1H
X-Robots-Tag:noindex
X-PUBLISHED-TTL:PT1H
BEGIN:VTIMEZONE
TZID:America/New_York
BEGIN:DAYLIGHT
TZOFFSETFROM:-0500
TZOFFSETTO:-0400
TZNAME:EDT
DTSTART:20240310T070000
END:DAYLIGHT
BEGIN:STANDARD
TZOFFSETFROM:-0400
TZOFFSETTO:-0500
TZNAME:EST
DTSTART:20241103T060000
END:STANDARD
BEGIN:DAYLIGHT
TZOFFSETFROM:-0500
TZOFFSETTO:-0400
TZNAME:EDT
DTSTART:20250309T070000
END:DAYLIGHT
BEGIN:STANDARD
TZOFFSETFROM:-0400
TZOFFSETTO:-0500
TZNAME:EST
DTSTART:20251102T060000
END:STANDARD
BEGIN:DAYLIGHT
TZOFFSETFROM:-0500
TZOFFSETTO:-0400
TZNAME:EDT
DTSTART:20260308T070000
END:DAYLIGHT
BEGIN:STANDARD
TZOFFSETFROM:-0400
TZOFFSETTO:-0500
TZNAME:EST
DTSTART:20261101T060000
END:STANDARD
END:VTIMEZONE
BEGIN:VEVENT
DTSTART;TZID=America/New_York:20250604T120000
DTEND;TZID=America/New_York:20250604T133000
DTSTAMP:20260423T010350
CREATED:20250317T213244Z
LAST-MODIFIED:20250521T175132Z
UID:30131-1749038400-1749043800@ritualwell.org
SUMMARY:Counting the Omer: A Neshamah Recharge
DESCRIPTION:The Counting of the Omer is a time for spiritual introspection and growth. During a time when many of us are feeling deflated and anxious about the state of the world\, this ritual can help us to recharge our Neshamah\, our soul. \nRitualwell is here for you! Through the 7-week period of the Omer\, we’ll provide you with support\, accountability\, community and creative inspiration to do this spiritual work.  \n\n\nEvery week\, we will send you an Omer guide for the upcoming week\, aligned with that week’s spiritual theme. This guide will include Jewish wisdom texts\, readings\, sensory explorations\, and creativity prompts for the week. The printable PDF will be sent electronically and can be accessed online. When you sign up for Counting the Omer: A Neshamah Recharge\, you are also invited to join us for three special community events throughout the Omer period: \n\n\n\nApril 16\, 2025\, 12 -1:00 p.m. EDT (Recording access now available): Ignite Your Omer Counting with a gathering led by Kohenet Sarah Chandler. Whether you’re new to counting or have participated in this ritual for many years\, Sarah will provide us with a fresh perspective on the sefirah of hesed. How do you embody deeds of lovingkindness\, g’milut hasadim? We will explore ancient and modern sources for love in action\, through the sefirah of hesed. Whether you are looking to call upon divine love\, to nourish self love or discover strategies for caring for others (without burnout)\, this workshop is for anyone who is ready to tap into the flow of hesed in the first week of the omer. \nMay 15\, 2025\, 12 -1:00 p.m. EDT: Nurture Your Omer Counting midway through the Omer with artist and Kohenet Bekah Starr.  We’ll begin with a creativity warm-up exercise\, followed by an exploration of a Lag B’Omer artwork by a Jewish artist\, uncovering new insights and art techniques. Explore how art can be studied and interpreted like Torah\, revealing layers of meaning and inspiration. Then\, create your own artistic response—whether through visual art\, poetry\, prayer\, or short story—fostering creativity\, artistic growth\, and a deeper connection to Jewish artistic expression.Bekah will lead us in a generative workshop exploring what we’ve discovered through the Omer so far.\n\n‘Counting the Omer: A Neshama Recharge’ is part of Ritualwell’s annual campaign to sustain our work. Ritualwell’s mission to create a welcoming space for individuals from diverse backgrounds who wish to embrace Jewish practice has become more vital than ever. \nWe know that you appreciate us being here for you. And we need you. Ritualwell’s free offerings are made possible by gifts from people like you. \nRegister now and support our mission as we support you through the Omer–and beyond.
URL:https://ritualwell.org/event/counting-the-omer-a-neshamah-recharge/2025-06-04/
LOCATION:Zoom
CATEGORIES:Event
ATTACH;FMTTYPE=image/png:https://ritualwell.org/wp-content/uploads/sites/2/2025/03/Neshamah-Recharge-Omer-campaign-.png
END:VEVENT
BEGIN:VEVENT
DTSTART;TZID=America/New_York:20250624T120000
DTEND;TZID=America/New_York:20250624T133000
DTSTAMP:20260423T010350
CREATED:20250506T135444Z
LAST-MODIFIED:20250515T122158Z
UID:30562-1750766400-1750771800@ritualwell.org
SUMMARY:The Creative Fire of Folklore
DESCRIPTION: \nTuesday\, June 24\, 2025\n12-1:30 p.m. EDT\n \nIn this generative poetry event\, we’ll chart ways to use your family or community’s sayings in poems that explore how the past informs the present. Come prepared to have fun\, while trying your hand at techniques for folding both folklore and imagery into poetry that’s at once individual and universal. Together\, we’ll play with writing exercises and discuss published work. By the end of class\, you’ll have a draft that you can shape for further development.\n \nNo previous poetry experience is required–this event is inclusive of everyone’s background and lived experiences.\n \nThis session will be recorded and sent to participants. We encourage live attendance for you to get the most out of the experience.\n \nSusan Comninos is a widely published writer and author of a recent book of poems\, “Out of Nowhere” (Stephen F. Austin Univ. Press/Texas A&M\, 2022). Her individual poems\, often on Jewish themes\, have appeared in the Harvard Review Online\, Rattle\, The Common\, Prairie Schooner and North American Review\, among others. She’s taught writing to undergraduates at Siena College\, The College of St. Rose and SUNY Albany\, as well as to adults in the community. She is currently at work on a second collection of poems\, called “Wild Joy of Receiving.” She lives in upstate New York. \n 
URL:https://ritualwell.org/event/the-creative-fire-of-folklore/
LOCATION:Zoom
CATEGORIES:Event,Free
ATTACH;FMTTYPE=image/png:https://ritualwell.org/wp-content/uploads/sites/2/2025/05/The-Creative-Fire-of-Folklore-raw.png
END:VEVENT
END:VCALENDAR