BEGIN:VCALENDAR
VERSION:2.0
PRODID:-//Ritualwell - ECPv6.15.19//NONSGML v1.0//EN
CALSCALE:GREGORIAN
METHOD:PUBLISH
X-WR-CALNAME:Ritualwell
X-ORIGINAL-URL:https://ritualwell.org
X-WR-CALDESC:Events for Ritualwell
REFRESH-INTERVAL;VALUE=DURATION:PT1H
X-Robots-Tag:noindex
X-PUBLISHED-TTL:PT1H
BEGIN:VTIMEZONE
TZID:America/New_York
BEGIN:DAYLIGHT
TZOFFSETFROM:-0500
TZOFFSETTO:-0400
TZNAME:EDT
DTSTART:20240310T070000
END:DAYLIGHT
BEGIN:STANDARD
TZOFFSETFROM:-0400
TZOFFSETTO:-0500
TZNAME:EST
DTSTART:20241103T060000
END:STANDARD
BEGIN:DAYLIGHT
TZOFFSETFROM:-0500
TZOFFSETTO:-0400
TZNAME:EDT
DTSTART:20250309T070000
END:DAYLIGHT
BEGIN:STANDARD
TZOFFSETFROM:-0400
TZOFFSETTO:-0500
TZNAME:EST
DTSTART:20251102T060000
END:STANDARD
BEGIN:DAYLIGHT
TZOFFSETFROM:-0500
TZOFFSETTO:-0400
TZNAME:EDT
DTSTART:20260308T070000
END:DAYLIGHT
BEGIN:STANDARD
TZOFFSETFROM:-0400
TZOFFSETTO:-0500
TZNAME:EST
DTSTART:20261101T060000
END:STANDARD
END:VTIMEZONE
BEGIN:VEVENT
DTSTART;TZID=America/New_York:20250206T120000
DTEND;TZID=America/New_York:20250206T133000
DTSTAMP:20260424T230632
CREATED:20241216T195311Z
LAST-MODIFIED:20241231T140906Z
UID:28966-1738843200-1738848600@ritualwell.org
SUMMARY:Exploring the Truth of This Moment
DESCRIPTION:Thursdays February 6 & 13\, 2025\n12:00-1:30pm EST\n$54\n \n\nDuring times of global uncertainty and change\, we can turn to Jewish texts to help us move through our fear and isolation towards deeper\, sustaining truths. The challenges of our time may feel uniquely modern\, but throughout history many of our ancestors have grappled with similar spiritual issues: How do I act from a place of hope? How do I envision beyond loss? How do I have faith in the world around me?\n \nJoin Rabbi Ora Nitkin-Kaner\, a climate change chaplain and innovative spiritual leader\, to delve into the questions that are keeping you up at night. Rabbi Nitkin-Kaner will guide us in using Talmudic and aggadic midrash in translation and creative practices to help us find courage\, resilience and a sense of ease in a changing world.\n \nThis session will be recorded and sent to participants. We encourage live attendance for you to get the most out of the experience.\n\n\n \nRabbi Ora Nitkin-Kaner is a meditation teacher\, climate change chaplain\, and educator who leads with warmth\, curiosity\, gentle humor\, and compassion. Over the past 15 years\, she has worked in prisons\, hospitals\, and congregations to steady folks through hard times. \nExploring Apocalypse is an extension of her rabbinic and pastoral care work (Reconstructionist Rabbinical College\, 2016)\, and is shaped by additional professional trainings in Climate Psychology (California Institute of Integral Studies\, 2022)\, Clinical Pastoral Education (East Jefferson General Hospital\, 2017 and Bellevue Hospital\, 2013)\, and certified yoga and meditation teacher training (Yoga Sanctuary Academy\, 2011)\, as well as graduate work in intergenerational trauma narratives (University of Toronto\, 2008). \n\n  \n\n\n      \n        \n      \n    \n\n \n \n 
URL:https://ritualwell.org/event/exploring-the-truth-of-this-moment/2025-02-06/
LOCATION:Zoom
CATEGORIES:Immersions
ATTACH;FMTTYPE=image/png:https://ritualwell.org/wp-content/uploads/sites/2/2024/12/RAW-Climate-Emotions-and-the-Wisdom-Our-Bodies-Carry-with-Rabbi-Ora-Nitkin-Kaner.png
END:VEVENT
BEGIN:VEVENT
DTSTART;TZID=America/New_York:20250213T120000
DTEND;TZID=America/New_York:20250213T133000
DTSTAMP:20260424T230632
CREATED:20241216T195311Z
LAST-MODIFIED:20241231T140908Z
UID:28970-1739448000-1739453400@ritualwell.org
SUMMARY:Exploring the Truth of This Moment
DESCRIPTION:Thursdays February 6 & 13\, 2025\n12:00-1:30pm EST\n$54\n \n\nDuring times of global uncertainty and change\, we can turn to Jewish texts to help us move through our fear and isolation towards deeper\, sustaining truths. The challenges of our time may feel uniquely modern\, but throughout history many of our ancestors have grappled with similar spiritual issues: How do I act from a place of hope? How do I envision beyond loss? How do I have faith in the world around me?\n \nJoin Rabbi Ora Nitkin-Kaner\, a climate change chaplain and innovative spiritual leader\, to delve into the questions that are keeping you up at night. Rabbi Nitkin-Kaner will guide us in using Talmudic and aggadic midrash in translation and creative practices to help us find courage\, resilience and a sense of ease in a changing world.\n \nThis session will be recorded and sent to participants. We encourage live attendance for you to get the most out of the experience.\n\n\n \nRabbi Ora Nitkin-Kaner is a meditation teacher\, climate change chaplain\, and educator who leads with warmth\, curiosity\, gentle humor\, and compassion. Over the past 15 years\, she has worked in prisons\, hospitals\, and congregations to steady folks through hard times. \nExploring Apocalypse is an extension of her rabbinic and pastoral care work (Reconstructionist Rabbinical College\, 2016)\, and is shaped by additional professional trainings in Climate Psychology (California Institute of Integral Studies\, 2022)\, Clinical Pastoral Education (East Jefferson General Hospital\, 2017 and Bellevue Hospital\, 2013)\, and certified yoga and meditation teacher training (Yoga Sanctuary Academy\, 2011)\, as well as graduate work in intergenerational trauma narratives (University of Toronto\, 2008). \n\n  \n\n\n      \n        \n      \n    \n\n \n \n 
URL:https://ritualwell.org/event/exploring-the-truth-of-this-moment/2025-02-13/
LOCATION:Zoom
CATEGORIES:Immersions
ATTACH;FMTTYPE=image/png:https://ritualwell.org/wp-content/uploads/sites/2/2024/12/RAW-Climate-Emotions-and-the-Wisdom-Our-Bodies-Carry-with-Rabbi-Ora-Nitkin-Kaner.png
END:VEVENT
BEGIN:VEVENT
DTSTART;VALUE=DATE:20250228
DTEND;VALUE=DATE:20250301
DTSTAMP:20260424T230632
CREATED:20241218T153212Z
LAST-MODIFIED:20250225T145248Z
UID:28984-1740700800-1740787199@ritualwell.org
SUMMARY:Voices of Disability
DESCRIPTION: \nVoices of Disability is a special new collection of curated poetry\, prayers and teachings about disability from Ritualwell contributors.  This printable PDF will be sent to you electronically and can be accessed online.\n\n\n\nWhen you purchase this new collection\, you will also receive a recording of our ‘Writing Disability Torah’ event. \n\n\nIn the event\, we explore the wisdom found in Disability Torah and how we can connect our personal experiences to these texts. In the recording\, you’ll be guided in a text study followed by a creative writing exercise to help you begin crafting your own piece of Disability Torah. \n\n\nThis conversation was led by Gabrielle Kaplan-Mayer from Ritualwell and Rabbi Ash Sofman from Thriving Communities at Reconstructing Judaism with RRC rabbinical students Mat Wilson and Rakhel Silverman-Gitin. Mat and Rakhel have both received Auerbach Ignition grants to support their initiatives in this area. \n\n\n\n\n \n\n\n \n \n \n \n \n \n \nGabrielle Kaplan-Mayer is Ritualwell’s Director of Virtual Content and Programs. She writes frequently about disability\, spirituality and creativity and edits the Jewish Disability Inclusion News. Previously she directed Whole Community Inclusion\, working to make the Philadelphia Jewish community more accessible. Her book The Little Gate-Crasher was selected as a Jewish Disability Awareness\, Acceptance & Inclusion Month book selection.\n \n \nRakhel Silverman-Gitin is a student at the Reconstructionist Rabbinical College whose Auerbach Ignition grantt aims to educate and engage the community of Or Haneshamah\, Ottawa’s Reconstructionist Congregation\, on disability justice\, and place it in conversation with the tradition of Shabbat. Instead of being focused on how to address the “issue” of disability within Judaism (i.e. what Jewish text thinks of disability)\, this project is focused on what Jews can learn from the wisdom of the disability community regarding rest and joy\, and how to apply these teachings to deepen personal and communal Shabbat practices.\n \nRabbi Asher Sofman is Reconstructing Judaism’s Justice\, Equity\, Diversity and Inclusion (JEDI) Program Coordinator who  has curated Disability and Accessibility resources for the movement. Ash studied creative writing and world literature at Brown University\, earning a B.A. with honors in Literary Arts and is a 2023 graduate of RRC. He has served as an associate chaplain at continuing-care retirement communities in Pennsylvania and New Jersey.\n \n\n \nMat Wilson (they/them) enjoys board and video games\, road trips big and small\, and any opportunity to be in the water. They discovered a love for Torah study through the art of source sheet creation and are currently expanding their written reflections through the Disability Torah Project. Outside of their free time\, Mat is a student at the Reconstructionist Rabbinical College and is pursuing a Master’s in Nonprofit Leadership at the University of Pennsylvania.\n \n\n      \n        \n      \n    \n 
URL:https://ritualwell.org/event/writing-disability-torah/
LOCATION:Zoom
CATEGORIES:Event
ATTACH;FMTTYPE=image/png:https://ritualwell.org/wp-content/uploads/sites/2/2024/12/Disability-Torah-raw.png
END:VEVENT
END:VCALENDAR