BEGIN:VCALENDAR
VERSION:2.0
PRODID:-//Ritualwell - ECPv6.15.19//NONSGML v1.0//EN
CALSCALE:GREGORIAN
METHOD:PUBLISH
X-ORIGINAL-URL:https://ritualwell.org
X-WR-CALDESC:Events for Ritualwell
REFRESH-INTERVAL;VALUE=DURATION:PT1H
X-Robots-Tag:noindex
X-PUBLISHED-TTL:PT1H
BEGIN:VTIMEZONE
TZID:America/New_York
BEGIN:DAYLIGHT
TZOFFSETFROM:-0500
TZOFFSETTO:-0400
TZNAME:EDT
DTSTART:20240310T070000
END:DAYLIGHT
BEGIN:STANDARD
TZOFFSETFROM:-0400
TZOFFSETTO:-0500
TZNAME:EST
DTSTART:20241103T060000
END:STANDARD
BEGIN:DAYLIGHT
TZOFFSETFROM:-0500
TZOFFSETTO:-0400
TZNAME:EDT
DTSTART:20250309T070000
END:DAYLIGHT
BEGIN:STANDARD
TZOFFSETFROM:-0400
TZOFFSETTO:-0500
TZNAME:EST
DTSTART:20251102T060000
END:STANDARD
BEGIN:DAYLIGHT
TZOFFSETFROM:-0500
TZOFFSETTO:-0400
TZNAME:EDT
DTSTART:20260308T070000
END:DAYLIGHT
BEGIN:STANDARD
TZOFFSETFROM:-0400
TZOFFSETTO:-0500
TZNAME:EST
DTSTART:20261101T060000
END:STANDARD
END:VTIMEZONE
BEGIN:VEVENT
DTSTART;TZID=America/New_York:20251111T120000
DTEND;TZID=America/New_York:20251111T133000
DTSTAMP:20260422T213422
CREATED:20250912T152949Z
LAST-MODIFIED:20250912T152949Z
UID:32162-1762862400-1762867800@ritualwell.org
SUMMARY:Writing in Conversation with Kohelet
DESCRIPTION:Tuesdays\, November 4\, 11 & 18\, 2025\n12:00-1:30 p.m.\n$154\n \n\nThe Book of Ecclesiastes (Kohelet) is a poetic\, puzzling\, and deeply human text—full of contradictions\, timeless wisdom\, and evocative imagery. In this 3-part generative writing series\, you’ll be invited to slow down\, listen closely\, and let Kohelet’s searching questions about purpose\, joy\, mortality\, and meaning spark your own reflections.\nEach session will offer:\n\n\n\nGuided exploration of selected passages from Kohelet that open up new ways of thinking about life’s biggest questions.\nCreative prompts to help you respond in your own voice—through poetry\, memoir\, fiction\, or spiritual writing.\nA supportive space to share and connect with others who are also writing their way into deeper wisdom.\n\n\n  \nBy the end of the series\, you’ll leave with fresh writing\, new insights into this mysterious text\, and a sense of connection to an ancient tradition that still speaks to the heart. Come ready to read\, reflect\, and create. All levels of writing experience are warmly welcomed. \n  \nThis session will be recorded and sent to participants. We encourage live attendance for you to get the most out of the experience \n\n\nAmy Gottlieb is a novelist and poet. Her debut novel\, The Beautiful Possible\, was a finalist for the Edward Lewis Wallant Award\, the Harold Ribalow Prize\, and a National Jewish Book Award for Debut Fiction. Her poetry has appeared in On Being\, Ilanot Review\, Storyscape\, SWWIM\, Quartet Journal\, Poetica\, Paper Brigade\, The Bloomsbury Anthology of Contemporary Jewish American Poetry\, and elsewhere. She is the recipient of a fellowship from the Civita Institute and five individual awards from the Bronx Council on the Arts.\n 
URL:https://ritualwell.org/event/writing-in-conversation-with-kohelet/2025-11-11/
CATEGORIES:Immersions
ATTACH;FMTTYPE=image/png:https://ritualwell.org/wp-content/uploads/sites/2/2025/09/Writing-in-Conversation-with-Kohelet-2025.png
END:VEVENT
BEGIN:VEVENT
DTSTART;TZID=America/New_York:20251111T200000
DTEND;TZID=America/New_York:20251111T200000
DTSTAMP:20260422T213422
CREATED:20250912T153332Z
LAST-MODIFIED:20251110T131339Z
UID:32176-1762891200-1762891200@ritualwell.org
SUMMARY:Before All the World: A Creative Conversation with Moriel Rothman-Zecher
DESCRIPTION:Tuesday\, November 11\, 2025\n8:00-9:00 p.m. EST\n \nIn recognition of Jewish Book Month\, join us for an intimate\, interactive online gathering with award-winning author Moriel Rothman-Zecher to explore his bold\, genre-bending novel Before All the World. Together\, we’ll dive into the book’s inventive use of language\, its weaving of Jewish memory\, resilience\, and love\, and the ways stories can hold both the ache of history and the possibility of transformation. This is more than a reading—it’s a conversation about writing\, identity\, and the sacred work of storytelling. Bring your curiosity\, your questions\, and your writer’s heart.\n \nThis event will be recorded and sent to participants. We encourage live attendance for you to get the most out of the experience.\n \n \nMoriel Rothman-Zecher is the author of the novels Before All the World\, which was named an NPR Best Book\, and Sadness Is a White Bird\, for which he received the National Book Foundation’s ‘5 Under 35’ Honor\, and which was a finalist for the Dayton Literary Peace Prize\, the winner of the Ohio Book Award\, a finalist for a National Jewish Book Award\, and longlisted for the Center for Fiction’s First Novel Prize. His work has been published in The American Poetry Review\, Barrelhouse\, Colorado Review\, The Common\, Jewish Currents\, Lit Hub\, Nashville Review\, The New York Times\, Poetry Daily\, The Paris Review’s Daily\, ZYZZYVA\, and elsewhere. Moriel is the recipient of two MacDowell Fellowships\, and teaches creative writing at Swarthmore College\, where he is a Visiting Assistant Professor of English Literature and Creative Writing\, and is also a member of the faculty of the Bennington Writing Seminars’ MFA Program. \n  \n\n      \n        \n      \n    \n \n \n 
URL:https://ritualwell.org/event/before-all-the-world-a-creative-conversation-with-moriel-rothman-zecher/
LOCATION:Zoom
CATEGORIES:Event
ATTACH;FMTTYPE=image/png:https://ritualwell.org/wp-content/uploads/sites/2/2025/09/Before-All-the-World-A-Creative-Conversation-with-Moriel-raw.png
END:VEVENT
END:VCALENDAR