BEGIN:VCALENDAR
VERSION:2.0
PRODID:-//Ritualwell - ECPv6.15.19//NONSGML v1.0//EN
CALSCALE:GREGORIAN
METHOD:PUBLISH
X-WR-CALNAME:Ritualwell
X-ORIGINAL-URL:https://ritualwell.org
X-WR-CALDESC:Events for Ritualwell
REFRESH-INTERVAL;VALUE=DURATION:PT1H
X-Robots-Tag:noindex
X-PUBLISHED-TTL:PT1H
BEGIN:VTIMEZONE
TZID:America/New_York
BEGIN:DAYLIGHT
TZOFFSETFROM:-0500
TZOFFSETTO:-0400
TZNAME:EDT
DTSTART:20240310T070000
END:DAYLIGHT
BEGIN:STANDARD
TZOFFSETFROM:-0400
TZOFFSETTO:-0500
TZNAME:EST
DTSTART:20241103T060000
END:STANDARD
BEGIN:DAYLIGHT
TZOFFSETFROM:-0500
TZOFFSETTO:-0400
TZNAME:EDT
DTSTART:20250309T070000
END:DAYLIGHT
BEGIN:STANDARD
TZOFFSETFROM:-0400
TZOFFSETTO:-0500
TZNAME:EST
DTSTART:20251102T060000
END:STANDARD
BEGIN:DAYLIGHT
TZOFFSETFROM:-0500
TZOFFSETTO:-0400
TZNAME:EDT
DTSTART:20260308T070000
END:DAYLIGHT
BEGIN:STANDARD
TZOFFSETFROM:-0400
TZOFFSETTO:-0500
TZNAME:EST
DTSTART:20261101T060000
END:STANDARD
END:VTIMEZONE
BEGIN:VEVENT
DTSTART;TZID=America/New_York:20250303T130000
DTEND;TZID=America/New_York:20250303T143000
DTSTAMP:20260423T022845
CREATED:20241218T164028Z
LAST-MODIFIED:20241218T164028Z
UID:29067-1741006800-1741012200@ritualwell.org
SUMMARY:Writing with Rebbe Nachman: Creating our own Spiritual Stories
DESCRIPTION:Mondays\, February 17\, 24 & March  3\, 10\, 17 and 24\, 2025\n1:00-2:30 p.m. EST\n$250\n \nRebbe Nachman of Breslov (1772 – 1810) is an enigmatic figure whose life and teaching still exert enormous influence across the Jewish world. The stories of Rebbe Nachman draw upon deep\, archetypal themes in our consciousness. These stories often read like fantastical children’s tales\, or Kafka-esque puzzles\, posing us questions intended to provoke awakening. They are based upon Rebbe Nachman’s profound grasp of Torah and Kabbalah\, and have also been read in the light of broader creative and intellectual movements such as Romanticism and Existentialism. Rebbe Nachman himself said that the stories were his deepest\, most powerful teachings.\n \nJoin Rabbi Daniel Raphael Silverstein to learn about and discuss some of Rebbe Nachman’s key stories\, discovering the meaning that they hold for us today. Then\, building on this inspiration\, we will take time to create our own stories\, or at least begin them. There will also be time for optional sharing and feedback\, so we can benefit from one another’s wisdom and perspective on what we have created.\n\n \nAll sessions will be recorded and sent to participants. We encourage live attendance for you to get the most out of the experience.\n \nDaniel Raphael Silverstein is a rabbi\, educator\, meditation teacher and MC/poet. He lives in Israel with his family\, where he directs Applied Jewish Spirituality\, an online portal which makes the transformative spiritual wisdom of our tradition accessible to all who seek it. Daniel is an accredited teacher of Jewish Mindfulness Meditation and regularly teaches classes and retreats. He was born and raised in London and received a BA from the University of Cambridge and an MA from Warwick University. After receiving semikha from Yeshivat Chovevei Torah Rabbinical School\, he served as Director of Jewish Life and Learning for Hillel of Stanford University in Palo Alto\, CA. Daniel has performed and facilitated all over the world as a spoken word artist\, MC\, and creative educator\, and the Jewish Week selected him as one of their “36 Under 36” young innovators reshaping the Jewish community. Daniel is a cofounder of Lines of Faith\, a Muslim-Jewish hip hop and poetry collective that uses performances and workshops to challenge prejudice and build meaningful bonds between communities.\n \n\n      \n        \n      \n    \n 
URL:https://ritualwell.org/event/writing-with-rebbe-nachman-creating-our-own-spiritual-stories/2025-03-03/
LOCATION:Zoom
CATEGORIES:Immersions
ATTACH;FMTTYPE=image/png:https://ritualwell.org/wp-content/uploads/sites/2/2024/12/RAW-Writing-with-Rebbe-Nachman-Creating-our-own-Spiritual-Stories-with-Rabbi-Daniel-Raphael-Silverstein.png
END:VEVENT
BEGIN:VEVENT
DTSTART;TZID=America/New_York:20250304T120000
DTEND;TZID=America/New_York:20250304T133000
DTSTAMP:20260423T022845
CREATED:20250109T155913Z
LAST-MODIFIED:20250218T140609Z
UID:29056-1741089600-1741095000@ritualwell.org
SUMMARY:Honoring Loved Ones in Writing & Art
DESCRIPTION:Tuesdays\, March 4\, 11\, 18 & 25\, 2025\n12:00-1:30 p.m.\n$180\n \n\n\n\n\nNow more than ever\, we need the guidance of our ancestors\, and creative expression provides a wonderful path for connection. \n\n\nIn Jewish tradition\, there are many ways to honor both the living and those who have departed. Delve into\, celebrate\, and awaken the spirits of the teachers\, mentors\, friends\, and loved ones who have impacted your life through the written and visual arts. \n\n\nJoin poet and painter Cathleen Cohen along with Gabrielle Kaplan-Mayer from Ritualwell\, an essayist and memoirist for a series of creative exercises and prompts designed to help you express your love and gratitude for those who have profoundly shaped your journey and to summon their wisdom into your own life. \n\n\n\nWhether you are new to creative expression or a seasoned writer or artist\, this workshop offers an opportunity to discover fresh creative techniques and pathways to enhance the strongest bonds in your life.\n \n\nAll sessions will be recorded and sent to participants. We encourage live attendance for you to get the most out of the experience.\n \nCathleen Cohen was the 2019 Poet Laureate of Montgomery County\, PA. A painter and teacher\, she founded the We the Poets program at ArtWell\, an arts education non-profit in Philadelphia. Her poems appear in journals such as Apiary\, Baltimore Review\, Cagibi\, East Coast Ink\, 6ix\, North of Oxford\, One Art\, Passager\, Philadelphia Stories\, Rockvale Review and Rogue Agent. Camera Obscura (chapbook\, Moonstone Press)\, appeared in 2017 and Etching the Ghost (Atmosphere Press) in 2021. She received the Interfaith Relations Award from the Montgomery County PA Human Rights Commission and the Public Service Award from National Association of Poetry Therapy. Her paintings are on view at Cerulean Arts Gallery (ceruleanarts.com).\n \n \n \n\n\nGabrielle Ariella Kaplan-Mayer is Ritualwell’s Director of Virtual Content and Programs. She is an author and educator whose work focuses on spirituality\, creativity and disability. Her personal essays have been featured in Tablet\, Shondaland\, NBCThink\, Wisdom Daily\, WHYY and many other publications and she has published several nonfiction books as well as plays for children. Gabrielle is currently working on a memoir about the power of intuition and ongoing conversations with her ancestors. She writes a Substack newsletter called “Journey With The Seasons\,” a weekly practice of meditative reading with creative self-expression prompts. \nGabrielle holds a BFA in theater and creative writing from Emerson College and an MA in Jewish Studies from the Reconstructionist Rabbinical College. \n\n      \n        \n      \n    \n\n\n\n 
URL:https://ritualwell.org/event/honoring-loved-ones-in-writing-art/2025-03-04/
LOCATION:Zoom
CATEGORIES:Immersions
ATTACH;FMTTYPE=image/png:https://ritualwell.org/wp-content/uploads/sites/2/2024/12/RAW-Honoring-Loved-Ones-in-Writing-Art-with-Cathleeen-Cohen-Gabrielle-Kaplan-Mayer.png
END:VEVENT
BEGIN:VEVENT
DTSTART;TZID=America/New_York:20250310T130000
DTEND;TZID=America/New_York:20250310T143000
DTSTAMP:20260423T022845
CREATED:20241218T164029Z
LAST-MODIFIED:20241218T164029Z
UID:29068-1741611600-1741617000@ritualwell.org
SUMMARY:Writing with Rebbe Nachman: Creating our own Spiritual Stories
DESCRIPTION:Mondays\, February 17\, 24 & March  3\, 10\, 17 and 24\, 2025\n1:00-2:30 p.m. EST\n$250\n \nRebbe Nachman of Breslov (1772 – 1810) is an enigmatic figure whose life and teaching still exert enormous influence across the Jewish world. The stories of Rebbe Nachman draw upon deep\, archetypal themes in our consciousness. These stories often read like fantastical children’s tales\, or Kafka-esque puzzles\, posing us questions intended to provoke awakening. They are based upon Rebbe Nachman’s profound grasp of Torah and Kabbalah\, and have also been read in the light of broader creative and intellectual movements such as Romanticism and Existentialism. Rebbe Nachman himself said that the stories were his deepest\, most powerful teachings.\n \nJoin Rabbi Daniel Raphael Silverstein to learn about and discuss some of Rebbe Nachman’s key stories\, discovering the meaning that they hold for us today. Then\, building on this inspiration\, we will take time to create our own stories\, or at least begin them. There will also be time for optional sharing and feedback\, so we can benefit from one another’s wisdom and perspective on what we have created.\n\n \nAll sessions will be recorded and sent to participants. We encourage live attendance for you to get the most out of the experience.\n \nDaniel Raphael Silverstein is a rabbi\, educator\, meditation teacher and MC/poet. He lives in Israel with his family\, where he directs Applied Jewish Spirituality\, an online portal which makes the transformative spiritual wisdom of our tradition accessible to all who seek it. Daniel is an accredited teacher of Jewish Mindfulness Meditation and regularly teaches classes and retreats. He was born and raised in London and received a BA from the University of Cambridge and an MA from Warwick University. After receiving semikha from Yeshivat Chovevei Torah Rabbinical School\, he served as Director of Jewish Life and Learning for Hillel of Stanford University in Palo Alto\, CA. Daniel has performed and facilitated all over the world as a spoken word artist\, MC\, and creative educator\, and the Jewish Week selected him as one of their “36 Under 36” young innovators reshaping the Jewish community. Daniel is a cofounder of Lines of Faith\, a Muslim-Jewish hip hop and poetry collective that uses performances and workshops to challenge prejudice and build meaningful bonds between communities.\n \n\n      \n        \n      \n    \n 
URL:https://ritualwell.org/event/writing-with-rebbe-nachman-creating-our-own-spiritual-stories/2025-03-10/
LOCATION:Zoom
CATEGORIES:Immersions
ATTACH;FMTTYPE=image/png:https://ritualwell.org/wp-content/uploads/sites/2/2024/12/RAW-Writing-with-Rebbe-Nachman-Creating-our-own-Spiritual-Stories-with-Rabbi-Daniel-Raphael-Silverstein.png
END:VEVENT
BEGIN:VEVENT
DTSTART;TZID=America/New_York:20250311T120000
DTEND;TZID=America/New_York:20250311T133000
DTSTAMP:20260423T022845
CREATED:20250109T155913Z
LAST-MODIFIED:20250218T140610Z
UID:29058-1741694400-1741699800@ritualwell.org
SUMMARY:Honoring Loved Ones in Writing & Art
DESCRIPTION:Tuesdays\, March 4\, 11\, 18 & 25\, 2025\n12:00-1:30 p.m.\n$180\n \n\n\n\n\nNow more than ever\, we need the guidance of our ancestors\, and creative expression provides a wonderful path for connection. \n\n\nIn Jewish tradition\, there are many ways to honor both the living and those who have departed. Delve into\, celebrate\, and awaken the spirits of the teachers\, mentors\, friends\, and loved ones who have impacted your life through the written and visual arts. \n\n\nJoin poet and painter Cathleen Cohen along with Gabrielle Kaplan-Mayer from Ritualwell\, an essayist and memoirist for a series of creative exercises and prompts designed to help you express your love and gratitude for those who have profoundly shaped your journey and to summon their wisdom into your own life. \n\n\n\nWhether you are new to creative expression or a seasoned writer or artist\, this workshop offers an opportunity to discover fresh creative techniques and pathways to enhance the strongest bonds in your life.\n \n\nAll sessions will be recorded and sent to participants. We encourage live attendance for you to get the most out of the experience.\n \nCathleen Cohen was the 2019 Poet Laureate of Montgomery County\, PA. A painter and teacher\, she founded the We the Poets program at ArtWell\, an arts education non-profit in Philadelphia. Her poems appear in journals such as Apiary\, Baltimore Review\, Cagibi\, East Coast Ink\, 6ix\, North of Oxford\, One Art\, Passager\, Philadelphia Stories\, Rockvale Review and Rogue Agent. Camera Obscura (chapbook\, Moonstone Press)\, appeared in 2017 and Etching the Ghost (Atmosphere Press) in 2021. She received the Interfaith Relations Award from the Montgomery County PA Human Rights Commission and the Public Service Award from National Association of Poetry Therapy. Her paintings are on view at Cerulean Arts Gallery (ceruleanarts.com).\n \n \n \n\n\nGabrielle Ariella Kaplan-Mayer is Ritualwell’s Director of Virtual Content and Programs. She is an author and educator whose work focuses on spirituality\, creativity and disability. Her personal essays have been featured in Tablet\, Shondaland\, NBCThink\, Wisdom Daily\, WHYY and many other publications and she has published several nonfiction books as well as plays for children. Gabrielle is currently working on a memoir about the power of intuition and ongoing conversations with her ancestors. She writes a Substack newsletter called “Journey With The Seasons\,” a weekly practice of meditative reading with creative self-expression prompts. \nGabrielle holds a BFA in theater and creative writing from Emerson College and an MA in Jewish Studies from the Reconstructionist Rabbinical College. \n\n      \n        \n      \n    \n\n\n\n 
URL:https://ritualwell.org/event/honoring-loved-ones-in-writing-art/2025-03-11/
LOCATION:Zoom
CATEGORIES:Immersions
ATTACH;FMTTYPE=image/png:https://ritualwell.org/wp-content/uploads/sites/2/2024/12/RAW-Honoring-Loved-Ones-in-Writing-Art-with-Cathleeen-Cohen-Gabrielle-Kaplan-Mayer.png
END:VEVENT
BEGIN:VEVENT
DTSTART;TZID=America/New_York:20250312T120000
DTEND;TZID=America/New_York:20250312T133000
DTSTAMP:20260423T022845
CREATED:20241218T153706Z
LAST-MODIFIED:20250306T162545Z
UID:29025-1741780800-1741786200@ritualwell.org
SUMMARY:Bringing Your Purim Story To Life
DESCRIPTION:Wednesday\, March 12\, 2025\n12-1:30 p.m. EDT\n$18\n \n\n\n\nPurim is a tale of resilience\, standing up and speaking out. Now more than ever\, we need YOUR story! \n\n\nJoin Cantor and performing artist Karen Webber for a creative journey drawing inspiration from fairy tales\, folk tales and the Purim story to craft your own narrative about finding courage\, speaking your truth and fighting for justice. Whether you share your story for the holiday or another occasion\, Purim is the perfect opportunity to embrace your role as a storyteller. \n\n\n\nThis session will be recorded and sent to participants. We encourage live attendance for you to get the most out of the experience.\n \nKaren Webber is a performance\, teaching and liturgical artist who crafts music/theatre pieces for use in Zoom rooms\, senior centers and on the bimah. Ordained as a cantor by the Hebrew Union College-Jewish Institute of Religion in 1990. Karen has served congregations large and small in all four corners of the U.S. and Canada. The Maryland State Arts Council awarded her a Creativity grant based on an original short film in 2022\, and a Master/Apprentice grant in Yiddish folksong in 2023. In 2024\, Karen was invited by the Maryland State Arts Council to join the Folk Arts panel to award grants\, to be a regional judge for ‘Poetry Out Loud’  Her poems appear online and in print at Ritualwell\, Poetica\, Unlikely Places\, Abandon Journal and The Torrid Literature Journal. Her Havdalah ritual was published in Lilith Magazine (2009) poems in Am Yisrael Chai (2023) and essays in Prophetic Voices: a Haftarah commentary published by CCAR Press (2023)\n 
URL:https://ritualwell.org/event/bring-your-story-to-life/
LOCATION:Zoom
CATEGORIES:Immersions
ATTACH;FMTTYPE=image/png:https://ritualwell.org/wp-content/uploads/sites/2/2024/12/Art-Image-Voice-Bringing-Your-Story-To-Life-raw.png
END:VEVENT
BEGIN:VEVENT
DTSTART;TZID=America/New_York:20250317T130000
DTEND;TZID=America/New_York:20250317T143000
DTSTAMP:20260423T022845
CREATED:20241218T164029Z
LAST-MODIFIED:20241218T164029Z
UID:29069-1742216400-1742221800@ritualwell.org
SUMMARY:Writing with Rebbe Nachman: Creating our own Spiritual Stories
DESCRIPTION:Mondays\, February 17\, 24 & March  3\, 10\, 17 and 24\, 2025\n1:00-2:30 p.m. EST\n$250\n \nRebbe Nachman of Breslov (1772 – 1810) is an enigmatic figure whose life and teaching still exert enormous influence across the Jewish world. The stories of Rebbe Nachman draw upon deep\, archetypal themes in our consciousness. These stories often read like fantastical children’s tales\, or Kafka-esque puzzles\, posing us questions intended to provoke awakening. They are based upon Rebbe Nachman’s profound grasp of Torah and Kabbalah\, and have also been read in the light of broader creative and intellectual movements such as Romanticism and Existentialism. Rebbe Nachman himself said that the stories were his deepest\, most powerful teachings.\n \nJoin Rabbi Daniel Raphael Silverstein to learn about and discuss some of Rebbe Nachman’s key stories\, discovering the meaning that they hold for us today. Then\, building on this inspiration\, we will take time to create our own stories\, or at least begin them. There will also be time for optional sharing and feedback\, so we can benefit from one another’s wisdom and perspective on what we have created.\n\n \nAll sessions will be recorded and sent to participants. We encourage live attendance for you to get the most out of the experience.\n \nDaniel Raphael Silverstein is a rabbi\, educator\, meditation teacher and MC/poet. He lives in Israel with his family\, where he directs Applied Jewish Spirituality\, an online portal which makes the transformative spiritual wisdom of our tradition accessible to all who seek it. Daniel is an accredited teacher of Jewish Mindfulness Meditation and regularly teaches classes and retreats. He was born and raised in London and received a BA from the University of Cambridge and an MA from Warwick University. After receiving semikha from Yeshivat Chovevei Torah Rabbinical School\, he served as Director of Jewish Life and Learning for Hillel of Stanford University in Palo Alto\, CA. Daniel has performed and facilitated all over the world as a spoken word artist\, MC\, and creative educator\, and the Jewish Week selected him as one of their “36 Under 36” young innovators reshaping the Jewish community. Daniel is a cofounder of Lines of Faith\, a Muslim-Jewish hip hop and poetry collective that uses performances and workshops to challenge prejudice and build meaningful bonds between communities.\n \n\n      \n        \n      \n    \n 
URL:https://ritualwell.org/event/writing-with-rebbe-nachman-creating-our-own-spiritual-stories/2025-03-17/
LOCATION:Zoom
CATEGORIES:Immersions
ATTACH;FMTTYPE=image/png:https://ritualwell.org/wp-content/uploads/sites/2/2024/12/RAW-Writing-with-Rebbe-Nachman-Creating-our-own-Spiritual-Stories-with-Rabbi-Daniel-Raphael-Silverstein.png
END:VEVENT
BEGIN:VEVENT
DTSTART;TZID=America/New_York:20250318T120000
DTEND;TZID=America/New_York:20250318T133000
DTSTAMP:20260423T022845
CREATED:20250109T155913Z
LAST-MODIFIED:20250218T140611Z
UID:29059-1742299200-1742304600@ritualwell.org
SUMMARY:Honoring Loved Ones in Writing & Art
DESCRIPTION:Tuesdays\, March 4\, 11\, 18 & 25\, 2025\n12:00-1:30 p.m.\n$180\n \n\n\n\n\nNow more than ever\, we need the guidance of our ancestors\, and creative expression provides a wonderful path for connection. \n\n\nIn Jewish tradition\, there are many ways to honor both the living and those who have departed. Delve into\, celebrate\, and awaken the spirits of the teachers\, mentors\, friends\, and loved ones who have impacted your life through the written and visual arts. \n\n\nJoin poet and painter Cathleen Cohen along with Gabrielle Kaplan-Mayer from Ritualwell\, an essayist and memoirist for a series of creative exercises and prompts designed to help you express your love and gratitude for those who have profoundly shaped your journey and to summon their wisdom into your own life. \n\n\n\nWhether you are new to creative expression or a seasoned writer or artist\, this workshop offers an opportunity to discover fresh creative techniques and pathways to enhance the strongest bonds in your life.\n \n\nAll sessions will be recorded and sent to participants. We encourage live attendance for you to get the most out of the experience.\n \nCathleen Cohen was the 2019 Poet Laureate of Montgomery County\, PA. A painter and teacher\, she founded the We the Poets program at ArtWell\, an arts education non-profit in Philadelphia. Her poems appear in journals such as Apiary\, Baltimore Review\, Cagibi\, East Coast Ink\, 6ix\, North of Oxford\, One Art\, Passager\, Philadelphia Stories\, Rockvale Review and Rogue Agent. Camera Obscura (chapbook\, Moonstone Press)\, appeared in 2017 and Etching the Ghost (Atmosphere Press) in 2021. She received the Interfaith Relations Award from the Montgomery County PA Human Rights Commission and the Public Service Award from National Association of Poetry Therapy. Her paintings are on view at Cerulean Arts Gallery (ceruleanarts.com).\n \n \n \n\n\nGabrielle Ariella Kaplan-Mayer is Ritualwell’s Director of Virtual Content and Programs. She is an author and educator whose work focuses on spirituality\, creativity and disability. Her personal essays have been featured in Tablet\, Shondaland\, NBCThink\, Wisdom Daily\, WHYY and many other publications and she has published several nonfiction books as well as plays for children. Gabrielle is currently working on a memoir about the power of intuition and ongoing conversations with her ancestors. She writes a Substack newsletter called “Journey With The Seasons\,” a weekly practice of meditative reading with creative self-expression prompts. \nGabrielle holds a BFA in theater and creative writing from Emerson College and an MA in Jewish Studies from the Reconstructionist Rabbinical College. \n\n      \n        \n      \n    \n\n\n\n 
URL:https://ritualwell.org/event/honoring-loved-ones-in-writing-art/2025-03-18/
LOCATION:Zoom
CATEGORIES:Immersions
ATTACH;FMTTYPE=image/png:https://ritualwell.org/wp-content/uploads/sites/2/2024/12/RAW-Honoring-Loved-Ones-in-Writing-Art-with-Cathleeen-Cohen-Gabrielle-Kaplan-Mayer.png
END:VEVENT
BEGIN:VEVENT
DTSTART;TZID=America/New_York:20250324T130000
DTEND;TZID=America/New_York:20250324T143000
DTSTAMP:20260423T022845
CREATED:20241218T164030Z
LAST-MODIFIED:20241218T164030Z
UID:29070-1742821200-1742826600@ritualwell.org
SUMMARY:Writing with Rebbe Nachman: Creating our own Spiritual Stories
DESCRIPTION:Mondays\, February 17\, 24 & March  3\, 10\, 17 and 24\, 2025\n1:00-2:30 p.m. EST\n$250\n \nRebbe Nachman of Breslov (1772 – 1810) is an enigmatic figure whose life and teaching still exert enormous influence across the Jewish world. The stories of Rebbe Nachman draw upon deep\, archetypal themes in our consciousness. These stories often read like fantastical children’s tales\, or Kafka-esque puzzles\, posing us questions intended to provoke awakening. They are based upon Rebbe Nachman’s profound grasp of Torah and Kabbalah\, and have also been read in the light of broader creative and intellectual movements such as Romanticism and Existentialism. Rebbe Nachman himself said that the stories were his deepest\, most powerful teachings.\n \nJoin Rabbi Daniel Raphael Silverstein to learn about and discuss some of Rebbe Nachman’s key stories\, discovering the meaning that they hold for us today. Then\, building on this inspiration\, we will take time to create our own stories\, or at least begin them. There will also be time for optional sharing and feedback\, so we can benefit from one another’s wisdom and perspective on what we have created.\n\n \nAll sessions will be recorded and sent to participants. We encourage live attendance for you to get the most out of the experience.\n \nDaniel Raphael Silverstein is a rabbi\, educator\, meditation teacher and MC/poet. He lives in Israel with his family\, where he directs Applied Jewish Spirituality\, an online portal which makes the transformative spiritual wisdom of our tradition accessible to all who seek it. Daniel is an accredited teacher of Jewish Mindfulness Meditation and regularly teaches classes and retreats. He was born and raised in London and received a BA from the University of Cambridge and an MA from Warwick University. After receiving semikha from Yeshivat Chovevei Torah Rabbinical School\, he served as Director of Jewish Life and Learning for Hillel of Stanford University in Palo Alto\, CA. Daniel has performed and facilitated all over the world as a spoken word artist\, MC\, and creative educator\, and the Jewish Week selected him as one of their “36 Under 36” young innovators reshaping the Jewish community. Daniel is a cofounder of Lines of Faith\, a Muslim-Jewish hip hop and poetry collective that uses performances and workshops to challenge prejudice and build meaningful bonds between communities.\n \n\n      \n        \n      \n    \n 
URL:https://ritualwell.org/event/writing-with-rebbe-nachman-creating-our-own-spiritual-stories/2025-03-24/
LOCATION:Zoom
CATEGORIES:Immersions
ATTACH;FMTTYPE=image/png:https://ritualwell.org/wp-content/uploads/sites/2/2024/12/RAW-Writing-with-Rebbe-Nachman-Creating-our-own-Spiritual-Stories-with-Rabbi-Daniel-Raphael-Silverstein.png
END:VEVENT
BEGIN:VEVENT
DTSTART;TZID=America/New_York:20250325T120000
DTEND;TZID=America/New_York:20250325T133000
DTSTAMP:20260423T022845
CREATED:20250109T155913Z
LAST-MODIFIED:20250218T140611Z
UID:29060-1742904000-1742909400@ritualwell.org
SUMMARY:Honoring Loved Ones in Writing & Art
DESCRIPTION:Tuesdays\, March 4\, 11\, 18 & 25\, 2025\n12:00-1:30 p.m.\n$180\n \n\n\n\n\nNow more than ever\, we need the guidance of our ancestors\, and creative expression provides a wonderful path for connection. \n\n\nIn Jewish tradition\, there are many ways to honor both the living and those who have departed. Delve into\, celebrate\, and awaken the spirits of the teachers\, mentors\, friends\, and loved ones who have impacted your life through the written and visual arts. \n\n\nJoin poet and painter Cathleen Cohen along with Gabrielle Kaplan-Mayer from Ritualwell\, an essayist and memoirist for a series of creative exercises and prompts designed to help you express your love and gratitude for those who have profoundly shaped your journey and to summon their wisdom into your own life. \n\n\n\nWhether you are new to creative expression or a seasoned writer or artist\, this workshop offers an opportunity to discover fresh creative techniques and pathways to enhance the strongest bonds in your life.\n \n\nAll sessions will be recorded and sent to participants. We encourage live attendance for you to get the most out of the experience.\n \nCathleen Cohen was the 2019 Poet Laureate of Montgomery County\, PA. A painter and teacher\, she founded the We the Poets program at ArtWell\, an arts education non-profit in Philadelphia. Her poems appear in journals such as Apiary\, Baltimore Review\, Cagibi\, East Coast Ink\, 6ix\, North of Oxford\, One Art\, Passager\, Philadelphia Stories\, Rockvale Review and Rogue Agent. Camera Obscura (chapbook\, Moonstone Press)\, appeared in 2017 and Etching the Ghost (Atmosphere Press) in 2021. She received the Interfaith Relations Award from the Montgomery County PA Human Rights Commission and the Public Service Award from National Association of Poetry Therapy. Her paintings are on view at Cerulean Arts Gallery (ceruleanarts.com).\n \n \n \n\n\nGabrielle Ariella Kaplan-Mayer is Ritualwell’s Director of Virtual Content and Programs. She is an author and educator whose work focuses on spirituality\, creativity and disability. Her personal essays have been featured in Tablet\, Shondaland\, NBCThink\, Wisdom Daily\, WHYY and many other publications and she has published several nonfiction books as well as plays for children. Gabrielle is currently working on a memoir about the power of intuition and ongoing conversations with her ancestors. She writes a Substack newsletter called “Journey With The Seasons\,” a weekly practice of meditative reading with creative self-expression prompts. \nGabrielle holds a BFA in theater and creative writing from Emerson College and an MA in Jewish Studies from the Reconstructionist Rabbinical College. \n\n      \n        \n      \n    \n\n\n\n 
URL:https://ritualwell.org/event/honoring-loved-ones-in-writing-art/2025-03-25/
LOCATION:Zoom
CATEGORIES:Immersions
ATTACH;FMTTYPE=image/png:https://ritualwell.org/wp-content/uploads/sites/2/2024/12/RAW-Honoring-Loved-Ones-in-Writing-Art-with-Cathleeen-Cohen-Gabrielle-Kaplan-Mayer.png
END:VEVENT
END:VCALENDAR