BEGIN:VCALENDAR
VERSION:2.0
PRODID:-//Ritualwell - ECPv6.15.19//NONSGML v1.0//EN
CALSCALE:GREGORIAN
METHOD:PUBLISH
X-WR-CALNAME:Ritualwell
X-ORIGINAL-URL:https://ritualwell.org
X-WR-CALDESC:Events for Ritualwell
REFRESH-INTERVAL;VALUE=DURATION:PT1H
X-Robots-Tag:noindex
X-PUBLISHED-TTL:PT1H
BEGIN:VTIMEZONE
TZID:America/New_York
BEGIN:DAYLIGHT
TZOFFSETFROM:-0500
TZOFFSETTO:-0400
TZNAME:EDT
DTSTART:20230312T070000
END:DAYLIGHT
BEGIN:STANDARD
TZOFFSETFROM:-0400
TZOFFSETTO:-0500
TZNAME:EST
DTSTART:20231105T060000
END:STANDARD
BEGIN:DAYLIGHT
TZOFFSETFROM:-0500
TZOFFSETTO:-0400
TZNAME:EDT
DTSTART:20240310T070000
END:DAYLIGHT
BEGIN:STANDARD
TZOFFSETFROM:-0400
TZOFFSETTO:-0500
TZNAME:EST
DTSTART:20241103T060000
END:STANDARD
BEGIN:DAYLIGHT
TZOFFSETFROM:-0500
TZOFFSETTO:-0400
TZNAME:EDT
DTSTART:20250309T070000
END:DAYLIGHT
BEGIN:STANDARD
TZOFFSETFROM:-0400
TZOFFSETTO:-0500
TZNAME:EST
DTSTART:20251102T060000
END:STANDARD
END:VTIMEZONE
BEGIN:VEVENT
DTSTART;TZID=America/New_York:20241107T120000
DTEND;TZID=America/New_York:20241107T133000
DTSTAMP:20260422T041345
CREATED:20240726T155116Z
LAST-MODIFIED:20241014T135943Z
UID:25970-1730980800-1730986200@ritualwell.org
SUMMARY:Compassionate Ink: Promoting Caregivers' Well-being through Writing
DESCRIPTION:Thursday\, November 7\, 2024\n12-1:30 p.m. EST\n \n\nRitualwell is proud to partner again with Sharsheret during Caregivers’ Awareness Month for poetry\, prose\, and writing surrounding the caregiving experience. Focused on healing and support from the stress of this difficult role\, we will find refuge in expressing our emotions through writing. During our time together there will be an opportunity for everyone to begin writing something personally meaningful and healing through our writing prompts. This session will focus on writing and ritual as a means of healing\, which has been studied as an effective way to heal from both physical and emotional trauma. There will be time for sharing your own new writing from the session\, something that you have already written before\, or come to listen to others.\n \nNo previous writing experience necessary–our focus is on the power of expressing personal stories. This session is open to all\, no matter who you are supporting\, or why they may need support. Please feel free to invite friends\, loved ones\, and anyone you think will need this kind of support.\n\n \nThis event will be recorded and sent to participants. We encourage live attendance for you to get the most out of the experience.\n\n \n\nMelissa K. Rosen\, two-time cancer survivor\, current caregiver\, and a member of the ADVOT writing community. She is the Director of Training and Education at Sharsheret: The Jewish Breast and Ovarian Cancer Community.\n 
URL:https://ritualwell.org/event/compassionate-ink-promoting-caregivers-wellbeing-through-writing/
LOCATION:Zoom
CATEGORIES:Event,Free
ATTACH;FMTTYPE=image/png:https://ritualwell.org/wp-content/uploads/sites/2/2024/07/CompassionateInk_MelissaRosen_Nov2024-raw.png
END:VEVENT
BEGIN:VEVENT
DTSTART;TZID=America/New_York:20241125T130000
DTEND;TZID=America/New_York:20241125T143000
DTSTAMP:20260422T041345
CREATED:20241113T162451Z
LAST-MODIFIED:20241113T162538Z
UID:28668-1732539600-1732545000@ritualwell.org
SUMMARY:Bring the Jewish Practice of Gratitude to Your Thanksgiving
DESCRIPTION:Monday\, November 25\, 2024\n1-2:30 p.m. EST\n$18\n \n\nGratitude is an integral aspect of Jewish tradition. From starting the day with the Modah Ani prayer to offering prayers throughout the day that express appreciation for both the natural and human worlds\, Jewish practices provide us with valuable frameworks to foster awareness and joy through gratitude.\n\nWith Thanksgiving approaching\, this is the perfect opportunity to delve into gratitude as expressed in Jewish tradition and to create our own forms of thanks through poetry\, prayer\, or ritual. Join Gabrielle Kaplan-Mayer\, Ritualwell’s Director of Virtual Content and Programs\, for a special pre-Thanksgiving event designed to inspire you before the holiday\, inviting you to explore your personal feelings of gratitude. Uncover rituals that will bring a sense of sacred awareness to your Thanksgiving table and into your everyday life!\n\n \n\n \n\nGabrielle Ariella Kaplan-Mayer is Ritualwell’s Director of Virtual Content and Programs. She is a spiritual director\, author and educator whose work focuses on spirituality\, creativity and disability. Her personal essays have been featured in Tablet\, Shondaland\, NBCThink\, Wisdom Daily\, WHYY and many other publications and she has published several nonfiction books as well as plays for children. Gabrielle is currently working on a memoir about the power of intuition and ongoing conversations with her ancestors. She writes a Substack newsletter called “Journey With The Seasons\,” a weekly practice of meditative reading with creative self-expression prompts. \nGabrielle holds a BFA in theater and creative writing from Emerson College and an MA in Jewish Studies from the Reconstructionist Rabbinical College. \n\n\n 
URL:https://ritualwell.org/event/bring-the-jewish-practice-of-gratitude-to-your-thanksgiving/
LOCATION:Zoom
CATEGORIES:Event
ATTACH;FMTTYPE=image/png:https://ritualwell.org/wp-content/uploads/sites/2/2024/11/Gabby_ThanksgivingGratitude_Nov2024-RAW.png
END:VEVENT
END:VCALENDAR