BEGIN:VCALENDAR
VERSION:2.0
PRODID:-//Ritualwell - ECPv6.15.19//NONSGML v1.0//EN
CALSCALE:GREGORIAN
METHOD:PUBLISH
X-WR-CALNAME:Ritualwell
X-ORIGINAL-URL:https://ritualwell.org
X-WR-CALDESC:Events for Ritualwell
REFRESH-INTERVAL;VALUE=DURATION:PT1H
X-Robots-Tag:noindex
X-PUBLISHED-TTL:PT1H
BEGIN:VTIMEZONE
TZID:America/New_York
BEGIN:DAYLIGHT
TZOFFSETFROM:-0500
TZOFFSETTO:-0400
TZNAME:EDT
DTSTART:20210314T070000
END:DAYLIGHT
BEGIN:STANDARD
TZOFFSETFROM:-0400
TZOFFSETTO:-0500
TZNAME:EST
DTSTART:20211107T060000
END:STANDARD
BEGIN:DAYLIGHT
TZOFFSETFROM:-0500
TZOFFSETTO:-0400
TZNAME:EDT
DTSTART:20220313T070000
END:DAYLIGHT
BEGIN:STANDARD
TZOFFSETFROM:-0400
TZOFFSETTO:-0500
TZNAME:EST
DTSTART:20221106T060000
END:STANDARD
BEGIN:DAYLIGHT
TZOFFSETFROM:-0500
TZOFFSETTO:-0400
TZNAME:EDT
DTSTART:20230312T070000
END:DAYLIGHT
BEGIN:STANDARD
TZOFFSETFROM:-0400
TZOFFSETTO:-0500
TZNAME:EST
DTSTART:20231105T060000
END:STANDARD
END:VTIMEZONE
BEGIN:VEVENT
DTSTART;TZID=America/New_York:20221013T120000
DTEND;TZID=America/New_York:20221013T133000
DTSTAMP:20260424T193131
CREATED:20220817T221402Z
LAST-MODIFIED:20220830T162844Z
UID:11560-1665662400-1665667800@ritualwell.org
SUMMARY:Songs of the Grass: Exploring Jewish Eco-Poetry
DESCRIPTION:“Each and every grass has a song” – Rebbe Nachman of Bratslav \nThe Jewish environmental movement has sought to excavate and breathe new life into ancient texts that call us to right relationship with this fragile and holy earth. Jewish poets vividly describe the human encounter with plants\, animals\, and the elements where they often find intimations of the Divine or cause for protest on behalf of the non-human world. Together we’ll read poetry and other Jewish writings that will inspire our own experiments with eco-poetry. Some poets we will read include Marge Piercy\, Muriel Rukeyser\, Alicia Ostriker\, Adrienne Rich\, Denise Levertov\, Stanley Moss\, Stuart Kestenbaum\, Phillip Levine\, Mónica Gomery\, and more! We’ll engage in writing exercises\, some of which will take us outside to our local environments to allow us to listen to\, and translate\, the voices of the earth. You will come away with a deepened appreciation for Jewish wisdom on the environment and a number of poem drafts that will help you envision your personal Torah of the earth. \nHila Ratzabi is the author of the poetry collection There Are Still Woods\, forthcoming in September 2022 from June Road Press. She holds a BA in English/Creative Writing from Barnard College\, a BA in Jewish Philosophy from the Jewish Theological Seminary (Double Degree Program\, 2003)\, and an MFA in Poetry from Sarah Lawrence College (2007). Her poetry is published in a variety of literary journals and in The Bloomsbury Anthology of Contemporary Jewish American Poetry and Ghost Fishing: An Eco-Justice Poetry Anthology. Her articles have appeared in publications including The Wisdom Daily\, MyJewishLearning.com\, the Jewish Daily Forward\, Kveller\, Alma\, and Zeek. Ratzabi is Director of Virtual Content & Programs at Ritualwell.org and lives in Oak Park\, Il.\, outside Chicago\, with her spouse and two children. \nAll sessions will be recorded and sent to participants. We encourage live attendance for you to get the most out of the experience.
URL:https://ritualwell.org/event/songs-of-the-grass-exploring-jewish-eco-poetry/2022-10-13/
LOCATION:Zoom
CATEGORIES:Immersions
ATTACH;FMTTYPE=image/png:https://ritualwell.org/wp-content/uploads/sites/2/2022/08/Songs-of-the-Grass-Exploring-Jewish-Eco-Poetry-OctNov22-ForWeb.png
END:VEVENT
BEGIN:VEVENT
DTSTART;TZID=America/New_York:20221019T130000
DTEND;TZID=America/New_York:20221019T140000
DTSTAMP:20260424T193131
CREATED:20220817T220144Z
LAST-MODIFIED:20230517T140910Z
UID:11562-1666184400-1666188000@ritualwell.org
SUMMARY:Filling the Well: A Monthly Embodied Creativity Salon
DESCRIPTION:In this FREE monthly drop-in salon\, we will use embodied practices\, including breathing\, sound meditation\, and movement to quiet the inner critic\, calm the nervous system\, and open the creative channel. From that place we will explore generative prompts designed to free your creative expression. You will leave the space more deeply connected to your authentic creative voice and ready to put it to use.\n \nElana Bell is a poet\, sound practitioner\, and creative guide. She facilitates artistic rituals and processes that support individuals and groups in accessing their authentic voice and alchemizing raw experience and emotion into artistic expression. Elana is the author of Mother Country (BOA Editions in 2020)\, poems about fertility\, motherhood\, and mental illness. Elana’s debut collection of poetry\, Eyes\, Stones (LSU Press 2012)\, was selected by Fanny Howe as the winner of the 2011 Walt Whitman Award from the Academy of American Poets and brings her complex heritage as the granddaughter of Holocaust survivors to consider the difficult question of the Israeli-Palestinian conflict. In addition to leading her own embodied Creative Fire workshops\, Elana teaches poetry to actors at the Juilliard School and sings with the Resistance Revival Chorus\, a group of women activists and musicians committed to bringing joy and song to the resistance movement. She is also the founder of the Mother Artist Salon\, a community dedicated to supporting mothers in their artistic practice. www.elanabell.com\n \nPlease note these sessions will not be recorded. \nWe are happy to offer this series for free. Please consider adding a donation to Ritualwell to help us continue to offer free programs like this one!
URL:https://ritualwell.org/event/filling-the-well-a-monthly-embodied-creativity-salon/2022-10-19/
LOCATION:Zoom
CATEGORIES:Free,Monthly program
ATTACH;FMTTYPE=image/png:https://ritualwell.org/wp-content/uploads/sites/2/2022/08/Filling-the-Well-A-Monthly-Embodied-Creativity-Salon-monthly-ForWeb-1.png
END:VEVENT
BEGIN:VEVENT
DTSTART;TZID=America/New_York:20221024T130000
DTEND;TZID=America/New_York:20221024T143000
DTSTAMP:20260424T193131
CREATED:20220817T220143Z
LAST-MODIFIED:20220830T162805Z
UID:11561-1666616400-1666621800@ritualwell.org
SUMMARY:Meditating with the Siddur
DESCRIPTION:Prayer is a means to connect meaningfully to the infinite loving center of the universe. Yet praying from words written by other people in very different contexts from our own can be challenging. If we slow down our encounter with each prayer\, we can appreciate that they are each a carefully composed work of spiritual technology. They are roadmaps of inner discovery\, full of questions that can invite us to open to new experiences of self-awareness\, gratitude\, empathy\, love\, resilience\, connection\, and wholeness. In this immersion\, we will explore prayers from Shacharit (the Morning Service) as invitations to meditative practices and exercises\, including embodied movement\, writing exercises\, guided visualizations\, chanting\, and so on. Together\, we will deepen our experiential connection to prayers such as the Shema and the Amidah\, in ways that we can later draw upon whenever we desire. With each prayer\, we will search for how it resonates within us\, and how it can support us in our ongoing journey of becoming our best possible selves. There will also be space for intentional sharing\, so we will be enriched by both our own inner experiences and that of our fellow community members. \nDaniel Raphael Silverstein is a rabbi\, educator\, meditation teacher and MC/poet. He lives in Israel with his family\, where he directs Applied Jewish Spirituality\, an online portal which makes the transformative spiritual wisdom of our tradition accessible to all who seek it. Daniel is an accredited teacher of Jewish Mindfulness Meditation and regularly teaches classes and retreats. Daniel was born and raised in London\, and he received a BA from the University of Cambridge and an MA from Warwick University. After receiving semikha from Yeshivat Chovevei Torah Rabbinical School\, he served as Director of Jewish Life and Learning for Hillel of Stanford University in Palo Alto\, CA. Daniel has performed and facilitated all over the world as a spoken word artist\, MC\, and creative educator\, and the Jewish Week selected him as one of their “36 Under 36” young innovators reshaping the Jewish community. Daniel is a cofounder of Lines of Faith\, a Muslim-Jewish hip hop and poetry collective that uses performances and workshops to challenge prejudice and build meaningful bonds between communities. \nAll sessions will be recorded and sent to participants. We encourage live attendance for you to get the most out of the experience.
URL:https://ritualwell.org/event/meditating-with-the-siddur/2022-10-24/
LOCATION:Zoom
CATEGORIES:Immersions
ATTACH;FMTTYPE=image/png:https://ritualwell.org/wp-content/uploads/sites/2/2022/08/Meditating-with-the-Siddur-ForWeb.png
END:VEVENT
BEGIN:VEVENT
DTSTART;TZID=America/New_York:20221025T120000
DTEND;TZID=America/New_York:20221025T133000
DTSTAMP:20260424T193131
CREATED:20220823T192737Z
LAST-MODIFIED:20221019T184012Z
UID:13905-1666699200-1666704600@ritualwell.org
SUMMARY:Written in Moonlight: A Monthly Rosh Hodesh Journey
DESCRIPTION:This group meets monthly from October through June. You may register for individual monthly sessions or the full year. All sessions will be recorded in case you can’t attend live.\nFull year (9 months): $300 (save $24!)\nSingle sessions: $36 each \nJoin us for Ritualwell’s inaugural monthly Rosh Hodesh experience! Each month\, from October through June\, we will gather virtually for ritual and writing in a creative-spiritual liminal space. We will be guided by the ancient Jewish tradition of welcoming each month with the emergence of the new moon. We will honor the wisdom and practices of our foremothers\, recalling that Rosh Hodesh has historically been a sacred time for women—and celebrating those women who our tradition lifts up throughout the year—while raising a tent that is wide enough for all who wish to enter. At each gathering\, participants will be invited to contribute a short song\, prayer\, meditation\, niggun\, poem\, story\, kavannah\, or drash dedicated to the emerging month\, followed by teaching\, discussion\, and writing prompts led by Sivan Rotholz\, a ritualist\, community builder\, and professor of gynocentric Torah and creative writing who believes deeply in the magic of the new moon. People of all genders and backgrounds are welcome. No previous ritual\, writing\, or Rosh Hodesh experience necessary. \nSivan Rotholz is a professor of gynocentric Torah and creative writing. She has taught at Brooklyn College\, Tel Aviv University\, Columbia/Barnard Hillel\, Moishe House\, and elsewhere\, and has shared her Torah in synagogues and living rooms across the globe. Her writing has appeared in the Jewish Journal\, 929\, and Ritualwell\, among other publications. She is the Education Director for Achayot – Jewish Women Writers\, and is pursuing rabbinic ordination from Hebrew Union College–Jewish Institute of Religion. \n  \n  \nAll sessions will be recorded and sent to participants. We encourage live attendance for you to get the most out of the experience.
URL:https://ritualwell.org/event/written-in-moonlight-a-monthly-rosh-hodesh-journey/2022-10-25/
LOCATION:Zoom
CATEGORIES:Monthly program
ATTACH;FMTTYPE=image/png:https://ritualwell.org/wp-content/uploads/sites/2/2022/08/Written-in-Moonlight-ForWeb-1.png
END:VEVENT
BEGIN:VEVENT
DTSTART;TZID=America/New_York:20221025T140000
DTEND;TZID=America/New_York:20221025T150000
DTSTAMP:20260424T193131
CREATED:20220824T174612Z
LAST-MODIFIED:20220824T180214Z
UID:13989-1666706400-1666710000@ritualwell.org
SUMMARY:ADVOT@Ritualwell Studio sessions - Fall semester
DESCRIPTION:Join in for a time to create and connect!
URL:https://ritualwell.org/event/advotritualwell-studio-sessions-fall-semester/2022-10-25/
LOCATION:Zoom
CATEGORIES:ADVOT,Monthly program
END:VEVENT
END:VCALENDAR