BEGIN:VCALENDAR
VERSION:2.0
PRODID:-//Ritualwell - ECPv6.15.19//NONSGML v1.0//EN
CALSCALE:GREGORIAN
METHOD:PUBLISH
X-WR-CALNAME:Ritualwell
X-ORIGINAL-URL:https://ritualwell.org
X-WR-CALDESC:Events for Ritualwell
REFRESH-INTERVAL;VALUE=DURATION:PT1H
X-Robots-Tag:noindex
X-PUBLISHED-TTL:PT1H
BEGIN:VTIMEZONE
TZID:America/New_York
BEGIN:DAYLIGHT
TZOFFSETFROM:-0500
TZOFFSETTO:-0400
TZNAME:EDT
DTSTART:20210314T070000
END:DAYLIGHT
BEGIN:STANDARD
TZOFFSETFROM:-0400
TZOFFSETTO:-0500
TZNAME:EST
DTSTART:20211107T060000
END:STANDARD
BEGIN:DAYLIGHT
TZOFFSETFROM:-0500
TZOFFSETTO:-0400
TZNAME:EDT
DTSTART:20220313T070000
END:DAYLIGHT
BEGIN:STANDARD
TZOFFSETFROM:-0400
TZOFFSETTO:-0500
TZNAME:EST
DTSTART:20221106T060000
END:STANDARD
BEGIN:DAYLIGHT
TZOFFSETFROM:-0500
TZOFFSETTO:-0400
TZNAME:EDT
DTSTART:20230312T070000
END:DAYLIGHT
BEGIN:STANDARD
TZOFFSETFROM:-0400
TZOFFSETTO:-0500
TZNAME:EST
DTSTART:20231105T060000
END:STANDARD
END:VTIMEZONE
BEGIN:VEVENT
DTSTART;TZID=America/New_York:20221221T120000
DTEND;TZID=America/New_York:20221221T133000
DTSTAMP:20260421T092241
CREATED:20220817T220210Z
LAST-MODIFIED:20221111T173311Z
UID:11568-1671624000-1671629400@ritualwell.org
SUMMARY:Dreaming Against the Current: Exploring Spiritual Modalities
DESCRIPTION:In this session\, we will explore some of Rabbi Haviva’s favorite spiritual companioning modalities\, including dreamwork\, nature soul work\, and inner child work. She will read excerpts from her new memoir\, Dreaming Against the Current: A Rabbi’s Soul Journey\, as examples of the modalities at work\, and participants will be given prompts to begin to do some of that work themselves. There will be time for sharing as well. Participants are encouraged to come prepared with a pencil and notebook for journaling as well as an image from a dream\, a significant childhood event you feel changed your life in some way\, and a favorite animal\, tree\, or any other aspect of nature. \nRabbi Dr. Haviva Ner-David is the rabbinic founder of Shmaya: A Mikveh for Mind\, Body\, and Soul\, the only mikveh in Israel open to all to immerse as they choose. Ordained as both a rabbi and an interfaith minister\, certified as a spiritual companion (with a specialty in dream work)\, and with a doctorate on mikveh from Bar Ilan University\, she offers mikveh guidance and spiritual companioning for individuals and couples\, as well as mikveh workshops and classes for groups. Rabbi Haviva is the author of three spiritual journey memoirs and a novel. Her most recent memoir\, Dreaming Against the Current: A Rabbi’s Soul Journey\, is about her journey into interspirituality and dreamwork. Her two previous spiritual journey memoirs are titled: Chanah’s Voice: A Rabbi Wrestles with Gender\, Commandment\, and the Women’s Rituals of Baking\, Bathing\, and Brightening\, and Life on the Fringes: A Feminist Journey Towards Traditional Rabbinic Ordination\, a runner up for the National Jewish Book Council Awards. Hope Valley\, her debut novel\, is about the friendship between a Palestinian and a Jewish woman in Galilee\, where Haviva lives. She is also the mother of seven and lives with FSHD\, a form of muscular dystrophy\, which has been one of her greatest teachers. \nThe session will be recorded and sent to participants. We encourage live attendance for you to get the most out of the experience. \nWe are happy to offer this session for free. Please consider adding a donation to Ritualwell to help us continue to offer free programs like this one!
URL:https://ritualwell.org/event/dreaming-against-the-current-exploring-spiritual-modalities/
LOCATION:Zoom
CATEGORIES:Free,Standalone session
ATTACH;FMTTYPE=image/png:https://ritualwell.org/wp-content/uploads/sites/2/2022/08/Dreaming-Against-the-Current-Exploring-Spiritual-Modalities-Dec22-ForWeb.png
END:VEVENT
END:VCALENDAR