BEGIN:VCALENDAR
VERSION:2.0
PRODID:-//Ritualwell - ECPv6.15.19//NONSGML v1.0//EN
CALSCALE:GREGORIAN
METHOD:PUBLISH
X-ORIGINAL-URL:https://ritualwell.org
X-WR-CALDESC:Events for Ritualwell
REFRESH-INTERVAL;VALUE=DURATION:PT1H
X-Robots-Tag:noindex
X-PUBLISHED-TTL:PT1H
BEGIN:VTIMEZONE
TZID:America/New_York
BEGIN:DAYLIGHT
TZOFFSETFROM:-0500
TZOFFSETTO:-0400
TZNAME:EDT
DTSTART:20220313T070000
END:DAYLIGHT
BEGIN:STANDARD
TZOFFSETFROM:-0400
TZOFFSETTO:-0500
TZNAME:EST
DTSTART:20221106T060000
END:STANDARD
BEGIN:DAYLIGHT
TZOFFSETFROM:-0500
TZOFFSETTO:-0400
TZNAME:EDT
DTSTART:20230312T070000
END:DAYLIGHT
BEGIN:STANDARD
TZOFFSETFROM:-0400
TZOFFSETTO:-0500
TZNAME:EST
DTSTART:20231105T060000
END:STANDARD
BEGIN:DAYLIGHT
TZOFFSETFROM:-0500
TZOFFSETTO:-0400
TZNAME:EDT
DTSTART:20240310T070000
END:DAYLIGHT
BEGIN:STANDARD
TZOFFSETFROM:-0400
TZOFFSETTO:-0500
TZNAME:EST
DTSTART:20241103T060000
END:STANDARD
END:VTIMEZONE
BEGIN:VEVENT
DTSTART;TZID=America/New_York:20230118T120000
DTEND;TZID=America/New_York:20230118T133000
DTSTAMP:20260422T042005
CREATED:20220817T220211Z
LAST-MODIFIED:20221111T173557Z
UID:11572-1674043200-1674048600@ritualwell.org
SUMMARY:Wonder and Awe: Poetry as Play and Inquiry
DESCRIPTION:Poets are lovers of language play: riffing with lyricism and idiosyncratic phrases to describe a thought\, creating eccentric rhythms and sound patterns\, using different types of speech\, or blending references from sources as disparate as the Bible to pop culture. A poet’s writing practice is cultivated by a sense of the wonder often found in child’s play—trying out new possibilities with language and seeing how it can be shaped differently to share our individual experiences. In this session\, we will look at poets who engage with the creative fire and dance of language play as a tool to make serious inquiries about the world around us. We will read the work of Jewish poets Samuel Ace\, Rosebud Ben-Oni\, and Erika Meitner. We will experiment with writing our own short poems that involve play and thoughtfulness. \nLeslie Contreras Schwartz is a multi-genre writer\, a 2021 Academy of American Poets Laureate Fellow\, and was the 2019–2021 Houston Poet Laureate. She is the author of four collections of poetry\, including Black Dove / Paloma Negra (FlowerSong Press\, 2020)\, a finalist for the Helen C. Smith Memorial Award for 2020 Best Book of Poetry from the Texas Institute of Letters; Fuego (St. Julian Press\, 2016); and Nightbloom & Cenote (SJP\, 2018)\, a semi-finalist for the 2017 Tupelo Press Dorset Prize\, judged by Ilya Kaminsky. Her poet laureate community projects include Writing and Mindfulness: Creative Writing Exercises\, a free e-book on mindfulness and writing\, and the poetry film IT’S A MASK IT’S A VIRUS IT’S A KNEE\, a collective\, communal poetry film composed of poems written by Houstonians about their experiences during the COVID-19 pandemic. She is currently a faculty member at Alma College’s MFA low-residency program in creative writing. For more about her work\, visit lesliecschwartz.com. \nThe session will be recorded and sent to participants. We encourage live attendance for you to get the most out of the experience. \nWe are happy to offer this session for free. Please consider adding a donation to Ritualwell to help us continue to offer free programs like this one!
URL:https://ritualwell.org/event/wonder-and-awe-poetry-as-play-and-inquiry/
CATEGORIES:Free,Standalone session
ATTACH;FMTTYPE=image/png:https://ritualwell.org/wp-content/uploads/sites/2/2022/08/Wonder-and-Awe-Jan23-ForWeb.png
END:VEVENT
BEGIN:VEVENT
DTSTART;TZID=America/New_York:20230126T120000
DTEND;TZID=America/New_York:20230126T133000
DTSTAMP:20260422T042005
CREATED:20220817T220227Z
LAST-MODIFIED:20230109T152250Z
UID:11575-1674734400-1674739800@ritualwell.org
SUMMARY:Survival of the Word: Poetry for International Holocaust Remembrance Day
DESCRIPTION:Many of us have heard of Paul Celan and his haunting poem of the Holocaust\, “Death Fugue”: “Black milk of daybreak\, we drink you at night…” In preparation for International Holocaust Remembrance Day\, we’ll learn about some of Celan’s contemporaries: Nelly Sachs\, Bertolt Brecht\, Dan Paris\, Abba Kovner\, Primo Levi\, Ida Fink\, Abraham Sutzkever and many more\, who wrote about one of the darkest moments in history. We will explore a bit about these poets’ biographies\, how they survived the Holocaust\, where they settled\, the languages they wrote in\, and sample their powerful poetry. \nRachel Neve-Midbar is a poet and essayist. Her first full-length poetry collection\, Salaam of Birds\, was chosen by Dorothy Barresi for the Patricia Bibby First Book Prize and was published by Tebot Bach in January 2020. She is also the author of the 2014 chapbook\, What the Light Reveals. Her work has appeared in many journals and anthologies. A current Ph.D. candidate at the University of Southern California\, Rachel is also editor of Stained: An Anthology of Writing about Menstruation for the AuntFlo2020 Project. More at rachelnevemidbar.com. \n  \nThe session will be recorded and sent to participants. We encourage live attendance for you to get the most out of the experience. \nWe are happy to offer this session for free. Please consider adding a donation to Ritualwell to help us continue to offer free programs like this one!
URL:https://ritualwell.org/event/survival-of-the-word-poetry-for-international-holocaust-remembrance-day/
LOCATION:Zoom
CATEGORIES:Free,Standalone session
ATTACH;FMTTYPE=image/png:https://ritualwell.org/wp-content/uploads/sites/2/2022/08/Survival-of-the-Word-Jan26-ForWeb.png
END:VEVENT
END:VCALENDAR