BEGIN:VCALENDAR
VERSION:2.0
PRODID:-//Ritualwell - ECPv6.15.19//NONSGML v1.0//EN
CALSCALE:GREGORIAN
METHOD:PUBLISH
X-WR-CALNAME:Ritualwell
X-ORIGINAL-URL:https://ritualwell.org
X-WR-CALDESC:Events for Ritualwell
REFRESH-INTERVAL;VALUE=DURATION:PT1H
X-Robots-Tag:noindex
X-PUBLISHED-TTL:PT1H
BEGIN:VTIMEZONE
TZID:America/New_York
BEGIN:DAYLIGHT
TZOFFSETFROM:-0500
TZOFFSETTO:-0400
TZNAME:EDT
DTSTART:20220313T070000
END:DAYLIGHT
BEGIN:STANDARD
TZOFFSETFROM:-0400
TZOFFSETTO:-0500
TZNAME:EST
DTSTART:20221106T060000
END:STANDARD
BEGIN:DAYLIGHT
TZOFFSETFROM:-0500
TZOFFSETTO:-0400
TZNAME:EDT
DTSTART:20230312T070000
END:DAYLIGHT
BEGIN:STANDARD
TZOFFSETFROM:-0400
TZOFFSETTO:-0500
TZNAME:EST
DTSTART:20231105T060000
END:STANDARD
BEGIN:DAYLIGHT
TZOFFSETFROM:-0500
TZOFFSETTO:-0400
TZNAME:EDT
DTSTART:20240310T070000
END:DAYLIGHT
BEGIN:STANDARD
TZOFFSETFROM:-0400
TZOFFSETTO:-0500
TZNAME:EST
DTSTART:20241103T060000
END:STANDARD
END:VTIMEZONE
BEGIN:VEVENT
DTSTART;TZID=America/New_York:20230823T120000
DTEND;TZID=America/New_York:20230823T133000
DTSTAMP:20260421T193603
CREATED:20220909T151243Z
LAST-MODIFIED:20230808T134034Z
UID:15093-1692792000-1692797400@ritualwell.org
SUMMARY:Weaving Water: Recreating Jewish Water-based Rituals
DESCRIPTION:August 23\, 30\, September 6\, 13\, 20\, 27\, 2023  \n12-1:30 p.m. EDT  \nHow can ritual-weaving support us in bridging the gap between our own lives and our spiritual ancestors’ relationships with water? Explore how the Jewish calendar and our holiday cycle are built on the flow of water. Together\, we will track the role of water throughout the Torah and how ancient Israelites’ relationship with rain evolved to influence modern Jewish rituals. We will cover cycles of rain in the Middle East\, mikveh and other forms of purification through water\, lesser known Jewish water rituals\, water in liturgy\, embodied practices related to water\, and more. In each session\, we will study primary texts\, reflect on how these texts speak to our lives and needs today\, and be invited to design our own rituals in response. All sessions will be recorded and sent to participants. We encourage live attendance for you to get the most out of the experience. \nSarah Chandler aka Kohenet Shamirah is a Brooklyn-based Jewish educator\, artist\, activist\, healer\, and poet. She has been teaching Jewish eco-ritual weaving for over 15 years. She holds a M.A. in Jewish Education and a M.A. in Hebrew Bible from the Jewish Theological Seminary\, and a certificate in Non-Profit Management and Jewish Communal Leadership from Columbia University. She teaches\, writes and consults on a national level on issues related to Judaism\, earth-based spiritual practice\, mindfulness\, dreamwork\, and farming. Sarah’s chapter in “The Sacred Earth” (CCAR Press\, June 2023) focused on Jewish water spirituality. She is also the Liturgist in Residence at National Havurah Committee’s 2023 Summer Institute. An advanced student of Kabbalistic dream work at The School of Images\, Sarah is the founder and lead trainer for “Soft as a Rock: Public Speaking for Sensitive Souls.” \nAll sessions will be recorded and sent to participants. We encourage live attendance for you to get the most out of the experience.
URL:https://ritualwell.org/event/weaving-water-recreating-jewish-water-based-rituals/2023-08-23/
LOCATION:Zoom
CATEGORIES:Immersions
ATTACH;FMTTYPE=image/jpeg:https://ritualwell.org/wp-content/uploads/sites/2/2022/09/weaving-water-Recreating-Jewish-Water-based-Rituals-scaled.jpg
END:VEVENT
END:VCALENDAR