BEGIN:VCALENDAR
VERSION:2.0
PRODID:-//Ritualwell - ECPv6.15.19//NONSGML v1.0//EN
CALSCALE:GREGORIAN
METHOD:PUBLISH
X-ORIGINAL-URL:https://ritualwell.org
X-WR-CALDESC:Events for Ritualwell
REFRESH-INTERVAL;VALUE=DURATION:PT1H
X-Robots-Tag:noindex
X-PUBLISHED-TTL:PT1H
BEGIN:VTIMEZONE
TZID:America/New_York
BEGIN:DAYLIGHT
TZOFFSETFROM:-0500
TZOFFSETTO:-0400
TZNAME:EDT
DTSTART:20220313T070000
END:DAYLIGHT
BEGIN:STANDARD
TZOFFSETFROM:-0400
TZOFFSETTO:-0500
TZNAME:EST
DTSTART:20221106T060000
END:STANDARD
BEGIN:DAYLIGHT
TZOFFSETFROM:-0500
TZOFFSETTO:-0400
TZNAME:EDT
DTSTART:20230312T070000
END:DAYLIGHT
BEGIN:STANDARD
TZOFFSETFROM:-0400
TZOFFSETTO:-0500
TZNAME:EST
DTSTART:20231105T060000
END:STANDARD
BEGIN:DAYLIGHT
TZOFFSETFROM:-0500
TZOFFSETTO:-0400
TZNAME:EDT
DTSTART:20240310T070000
END:DAYLIGHT
BEGIN:STANDARD
TZOFFSETFROM:-0400
TZOFFSETTO:-0500
TZNAME:EST
DTSTART:20241103T060000
END:STANDARD
END:VTIMEZONE
BEGIN:VEVENT
DTSTART;TZID=America/New_York:20230606T120000
DTEND;TZID=America/New_York:20230606T133000
DTSTAMP:20260422T070744
CREATED:20220817T221402Z
LAST-MODIFIED:20230517T142323Z
UID:11589-1686052800-1686058200@ritualwell.org
SUMMARY:Tongues Shaped Like Harps: Experimenting with Poetry and Visual Art
DESCRIPTION:June 6\, 13\, 20\, 27\, 2023\n12:00–1:30 p.m. EDT \n“Pray in the tongues / that are shaped like harps” \n—From “Versöhnung” (Reconciliation)\, by Else Lasker-Schüler \nPoetry and visual art have a long history of inspiring each other. The German-Jewish poet Else Lasker-Schüler\, quoted above\, was influenced by Franz Marc and other Expressionist painters\, and her work\, in turn\, influenced other artists. In this immersion\, we’ll look at connections between a variety of Jewish poets and artists\, like Marc Chagall and Alexander Mazin\, and John O’Hara and Mike Goldberg. We’ll also look at creatives who work across different media\, like Jean Arp\, Tristan Tzara\, Marcia Falk\, and Maya Pindyck. These works will inspire our own experiments in writing ekphrastic poetry (poetry that responds to other art forms). We will also deepen our writing through simple exercises in drawing\, watercolor painting\, and collage. By playing with different media\, we will see how writing and art can open up new avenues of creativity in conversation with each other. All are welcome\, regardless of experience in writing poetry or artmaking. \nCathleen Cohen was the 2019 Poet Laureate of Montgomery County\, PA. A painter and teacher\, she founded the We the Poets program at ArtWell\, an arts education non-profit in Philadelphia. Her poems appear in journals such as Apiary\, Baltimore Review\, Cagibi\, East Coast Ink\, 6ix\, North of Oxford\, One Art\, Passager\, Philadelphia Stories\, Rockvale Review and Rogue Agent. Camera Obscura (chapbook\, Moonstone Press)\, appeared in 2017 and Etching the Ghost (Atmosphere Press) in 2021. She received the Interfaith Relations Award from the Montgomery County PA Human Rights Commission and the Public Service Award from National Association of Poetry Therapy. Her paintings are on view at Cerulean Arts Gallery (ceruleanarts.com). \nAll sessions will be recorded and sent to participants. We encourage live attendance for you to get the most out of the experience.
URL:https://ritualwell.org/event/tongues-shaped-like-harps-experimenting-with-poetry-and-visual-art/2023-06-06/
LOCATION:Zoom
CATEGORIES:Immersions
ATTACH;FMTTYPE=image/png:https://ritualwell.org/wp-content/uploads/sites/2/2022/08/Tongues-Shaped-Like-Harps-June-ForWeb-1.png
END:VEVENT
END:VCALENDAR