BEGIN:VCALENDAR
VERSION:2.0
PRODID:-//Ritualwell - ECPv6.15.19//NONSGML v1.0//EN
CALSCALE:GREGORIAN
METHOD:PUBLISH
X-ORIGINAL-URL:https://ritualwell.org
X-WR-CALDESC:Events for Ritualwell
REFRESH-INTERVAL;VALUE=DURATION:PT1H
X-Robots-Tag:noindex
X-PUBLISHED-TTL:PT1H
BEGIN:VTIMEZONE
TZID:America/New_York
BEGIN:DAYLIGHT
TZOFFSETFROM:-0500
TZOFFSETTO:-0400
TZNAME:EDT
DTSTART:20250309T070000
END:DAYLIGHT
BEGIN:STANDARD
TZOFFSETFROM:-0400
TZOFFSETTO:-0500
TZNAME:EST
DTSTART:20251102T060000
END:STANDARD
BEGIN:DAYLIGHT
TZOFFSETFROM:-0500
TZOFFSETTO:-0400
TZNAME:EDT
DTSTART:20260308T070000
END:DAYLIGHT
BEGIN:STANDARD
TZOFFSETFROM:-0400
TZOFFSETTO:-0500
TZNAME:EST
DTSTART:20261101T060000
END:STANDARD
BEGIN:DAYLIGHT
TZOFFSETFROM:-0500
TZOFFSETTO:-0400
TZNAME:EDT
DTSTART:20270314T070000
END:DAYLIGHT
BEGIN:STANDARD
TZOFFSETFROM:-0400
TZOFFSETTO:-0500
TZNAME:EST
DTSTART:20271107T060000
END:STANDARD
END:VTIMEZONE
BEGIN:VEVENT
DTSTART;TZID=America/New_York:20260518T120000
DTEND;TZID=America/New_York:20260518T123000
DTSTAMP:20260422T184959
CREATED:20260331T120919Z
LAST-MODIFIED:20260421T211137Z
UID:34771-1779105600-1779107400@ritualwell.org
SUMMARY:Holding Each Other
DESCRIPTION:Every Monday\, 12-12:15 p.m. EDT\n \nNow more than ever\, we need each other.\n \n\nEvery Monday\, join “Holding Each Other\,” a 15-minute online minyan\, facilitated by a leading Ritualwell contributor.  Together\, we’ll recite Mourners’ Kaddish and Mi Shebeirach\, the prayer for healing. To foster our spiritual resilience\, we’ll engage with a brief creative meditation.\n \nWeekly\, gather your strength and provide support to others.\n 
URL:https://ritualwell.org/event/holding-each-other-2/2026-05-18/
LOCATION:Zoom
CATEGORIES:Free
ATTACH;FMTTYPE=image/png:https://ritualwell.org/wp-content/uploads/sites/2/2025/09/Holding-Each-Other-25-26.png
END:VEVENT
BEGIN:VEVENT
DTSTART;TZID=America/New_York:20260525T120000
DTEND;TZID=America/New_York:20260525T123000
DTSTAMP:20260422T184959
CREATED:20260331T120919Z
LAST-MODIFIED:20260421T211140Z
UID:34772-1779710400-1779712200@ritualwell.org
SUMMARY:Holding Each Other
DESCRIPTION:Every Monday\, 12-12:15 p.m. EDT\n \nNow more than ever\, we need each other.\n \n\nEvery Monday\, join “Holding Each Other\,” a 15-minute online minyan\, facilitated by a leading Ritualwell contributor.  Together\, we’ll recite Mourners’ Kaddish and Mi Shebeirach\, the prayer for healing. To foster our spiritual resilience\, we’ll engage with a brief creative meditation.\n \nWeekly\, gather your strength and provide support to others.\n 
URL:https://ritualwell.org/event/holding-each-other-2/2026-05-25/
LOCATION:Zoom
CATEGORIES:Free
ATTACH;FMTTYPE=image/png:https://ritualwell.org/wp-content/uploads/sites/2/2025/09/Holding-Each-Other-25-26.png
END:VEVENT
BEGIN:VEVENT
DTSTART;TZID=America/New_York:20260601T120000
DTEND;TZID=America/New_York:20260601T123000
DTSTAMP:20260422T184959
CREATED:20260331T120919Z
LAST-MODIFIED:20260421T211143Z
UID:34773-1780315200-1780317000@ritualwell.org
SUMMARY:Holding Each Other
DESCRIPTION:Every Monday\, 12-12:15 p.m. EDT\n \nNow more than ever\, we need each other.\n \n\nEvery Monday\, join “Holding Each Other\,” a 15-minute online minyan\, facilitated by a leading Ritualwell contributor.  Together\, we’ll recite Mourners’ Kaddish and Mi Shebeirach\, the prayer for healing. To foster our spiritual resilience\, we’ll engage with a brief creative meditation.\n \nWeekly\, gather your strength and provide support to others.\n 
URL:https://ritualwell.org/event/holding-each-other-2/2026-06-01/
LOCATION:Zoom
CATEGORIES:Free
ATTACH;FMTTYPE=image/png:https://ritualwell.org/wp-content/uploads/sites/2/2025/09/Holding-Each-Other-25-26.png
END:VEVENT
BEGIN:VEVENT
DTSTART;TZID=America/New_York:20260625T190000
DTEND;TZID=America/New_York:20260625T203000
DTSTAMP:20260422T184959
CREATED:20260421T152702Z
LAST-MODIFIED:20260421T154218Z
UID:34715-1782414000-1782419400@ritualwell.org
SUMMARY:Advot End-of-Year Celebration and Poetry Reading
DESCRIPTION:Thursday\, June 25\, 2026\n7-8:30 p.m. EDT\n \n\n\n\nJoin us to celebrate the contributions of our Advot@Ritualwell members and the unveiling of our fifth anthology showcasing their creations. Advot@Ritualwell serves as an online community for Jewish writers to learn\, connect\, and collaborate\, providing a platform for mutual support in what can often be a solitary journey. Members bring their diverse backgrounds and expertise to share\, co-create\, and inspire one another. This event is their opportunity to showcase their work to you. Show your support by attending! Registrants will receive a 15% discount on their purchase of the anthology. \n\n\n\nThe members of our ADVOT community include: Nancy Abraham\, Elliott batTzedek\, Elizabeth Caplun\,  Alex Carter\, Cathleen Cohen\, Muriel Dance\, Batya Diamond\, Elisa Friedlander\, Ona Gritz\, Ziva Harmatz\, Claire Helman\, Chana Jacobs\, Ann Kanter\, Judith Kerman\, Lucinda Kurtz\, Rabbi Janet Madden\, Beverly Pincus\, Rabbi Sonja K. Pilz\, SJ Schlossman\, Gail Simmons\, Susan Spector\, Janice Steinberg\, Julie Stone\, and Cantor Keren Webber.\n\n \nThis session will be recorded and sent to participants following the event. We encourage live attendance for you to get the most out of the experience.\n\n 
URL:https://ritualwell.org/event/advot-end-of-year-celebration-and-poetry-reading-3/
LOCATION:Zoom
CATEGORIES:ADVOT,Event,Free
END:VEVENT
END:VCALENDAR