BEGIN:VCALENDAR
VERSION:2.0
PRODID:-//Ritualwell - ECPv6.15.19//NONSGML v1.0//EN
CALSCALE:GREGORIAN
METHOD:PUBLISH
X-WR-CALNAME:Ritualwell
X-ORIGINAL-URL:https://ritualwell.org
X-WR-CALDESC:Events for Ritualwell
REFRESH-INTERVAL;VALUE=DURATION:PT1H
X-Robots-Tag:noindex
X-PUBLISHED-TTL:PT1H
BEGIN:VTIMEZONE
TZID:America/New_York
BEGIN:DAYLIGHT
TZOFFSETFROM:-0500
TZOFFSETTO:-0400
TZNAME:EDT
DTSTART:20220313T070000
END:DAYLIGHT
BEGIN:STANDARD
TZOFFSETFROM:-0400
TZOFFSETTO:-0500
TZNAME:EST
DTSTART:20221106T060000
END:STANDARD
BEGIN:DAYLIGHT
TZOFFSETFROM:-0500
TZOFFSETTO:-0400
TZNAME:EDT
DTSTART:20230312T070000
END:DAYLIGHT
BEGIN:STANDARD
TZOFFSETFROM:-0400
TZOFFSETTO:-0500
TZNAME:EST
DTSTART:20231105T060000
END:STANDARD
BEGIN:DAYLIGHT
TZOFFSETFROM:-0500
TZOFFSETTO:-0400
TZNAME:EDT
DTSTART:20240310T070000
END:DAYLIGHT
BEGIN:STANDARD
TZOFFSETFROM:-0400
TZOFFSETTO:-0500
TZNAME:EST
DTSTART:20241103T060000
END:STANDARD
END:VTIMEZONE
BEGIN:VEVENT
DTSTART;TZID=America/New_York:20230313T110000
DTEND;TZID=America/New_York:20230313T120000
DTSTAMP:20260421T153528
CREATED:20230106T184212Z
LAST-MODIFIED:20230126T235807Z
UID:16647-1678705200-1678708800@ritualwell.org
SUMMARY:Poetic Midrash: A Conversation between Hila Ratzabi and Alden Solovy
DESCRIPTION:Join Ritualwell’s Hila Ratzabi in conversation with liturgist Alden Solovy in discussion of his new book\, These Words: Poetic Midrash on the Language of Torah. Hila and Alden will explore creative midrash and the process he used to write 70 poetic midrashim on individual words of Torah. Alden will also read selections from the book and discuss the Torah learning behind several of the poems. \n \nAlden Solovy spreads joy and excitement for prayer. An American Israeli liturgist\, lyricist\, poet\, author\, and educator\, Alden is the Liturgist-in-Residence for the Pardes Institute of Jewish Studies. Alden teaches prayer and spirituality throughout the world. Based in Jerusalem\, his six solo books include These Words: Poetic Midrash on the Language of Torah\, This Grateful Heart: Psalms and Prayers for a New Day\, This Joyous Soul: A New Voice for Ancient Yearnings\, and This Precious Life: Encountering the Divine with Poetry and Prayer\, all published by CCAR Press. A regular contributor to Ritualwell and a member of the Ritualwell Immersion faculty\, his work is anthologized in more than 20 other volumes across the religious spectrum. Alden also contributes regularly to RavBlog\, ReformJudaism.org\, and the Times of Israel. He’s a three-time winner of the Peter Lisagor Award for Exemplary Journalism. Alden made aliyah to Jerusalem in 2012. See his work at www.tobendlight.com. Alden can be reached at alden@tobendlight.com. \nThe session will be recorded and sent to participants. We encourage live attendance for you to get the most out of the experience. \nWe are happy to offer this event for free. A suggested $18 donation has been added to the ticket. If you are unable to donate\, you may remove that suggested amount from the ticket. Please consider donating if you’re able\, to help us continue to offer free programs like this one.
URL:https://ritualwell.org/event/poetic-midrash-a-conversation-between-hila-ratzabi-and-alden-solovy/
LOCATION:Zoom
CATEGORIES:Event,Free
ATTACH;FMTTYPE=image/png:https://ritualwell.org/wp-content/uploads/sites/2/2023/01/Poetic-Midrash-A-Conversation-between-Hila-Ratzabi-and-Alden-Solovy-Raw-for-Web.png
END:VEVENT
END:VCALENDAR